{"text_format":"1","workbook":"xlsx","n_sheets":11,"sheets":["H29介入支援","H30介入支援","R01介入支援","R02介入支援","R03介入支援","疾病管理一覧（糖尿病）","被保険者管理台帳","FKAC171","判定計算シート","名簿","処方抽出作業シート"],"not_rendered":{"charts":0,"images":0,"macros":1,"external_links":0,"defined_names":5,"comments":0,"pivot_tables":0},"unopened":[],"bounds":{"document_bytes":16777216,"sheet_cells":100000,"rows_first":2000,"rows_last":500,"rows_between":2000,"halvings":0,"cell_chars":16384,"cell_head_chars":4096},"cells_cut":0,"cells_raw":0,"read":"whole","date_system":"1900"}

{"sheet":"H29介入支援","index":0,"n_rows":0,"n_cols":0,"rows_kept":0,"cut":false,"hidden":false,"merged":[]}

{"sheet":"H30介入支援","index":1,"n_rows":0,"n_cols":0,"rows_kept":0,"cut":false,"hidden":false,"merged":[]}

{"sheet":"R01介入支援","index":2,"n_rows":0,"n_cols":0,"rows_kept":0,"cut":false,"hidden":false,"merged":[]}

{"sheet":"R02介入支援","index":3,"n_rows":0,"n_cols":0,"rows_kept":0,"cut":false,"hidden":false,"merged":[]}

{"sheet":"R03介入支援","index":4,"n_rows":0,"n_cols":0,"rows_kept":0,"cut":false,"hidden":false,"merged":[]}

{"sheet":"疾病管理一覧（糖尿病）","index":5,"n_rows":0,"n_cols":0,"rows_kept":0,"cut":false,"hidden":false,"merged":[]}

{"sheet":"被保険者管理台帳","index":6,"n_rows":0,"n_cols":0,"rows_kept":0,"cut":false,"hidden":false,"merged":[]}

{"sheet":"FKAC171","index":7,"n_rows":0,"n_cols":0,"rows_kept":0,"cut":false,"hidden":false,"merged":[]}

{"sheet":"判定計算シート","index":8,"n_rows":10,"n_cols":104,"rows_kept":10,"cut":false,"hidden":false,"merged":[[1,0,2,0]]}
[{"$f":"IF(OR(H29介入支援!A8=\"\",H30介入支援!A8=\"\",'R01介入支援'!A8=\"\",'R02介入支援'!A8=\"\",'R03介入支援'!A8=\"\",'疾病管理一覧（糖尿病）'!A12=\"\",被保険者管理台帳!A6=\"\",FKAC171!A4=\"\"),\"Error！\",\"\")","v":"Error！"},"KDB\n個人番号","国保\n個人番号","H29\nDM","H30\nDM","R01\nDM","R02\nDM","R03\nDM","H29\n処方","H30\n処方","R01\n処方","R02\n処方","R03\n処方","過去\nDM診断","過去\n処方","R03\nDM判定","H29\nA1c","H30\nA1c","R01\nA1c","R02\nA1c","R03\nA1c","A1c\n>=6.5","中断者","未治療者","除外\n要件","H29\nBMI","H30\nBMI","R01\nBMI","R02\nBMI","R03\nBMI","H29\n収縮期","H29\n拡張期","H30\n収縮期","H30\n拡張期","R01\n収縮期","R01\n拡張期","R02\n収縮期","R02\n拡張期","R03\n収縮期","R03\n拡張期","問診\n服薬","心電図所見有無","具体的な所見","資格取得日","資格喪失日","氏名\nカナ","国保\n個人番号","氏名","性別","年齢","H29\n診断","H29\n処方","H30\n診断","H30\n処方","R01\n診断","R01\n処方","R02\n診断","R02\n処方","R03\n診断","R03\n処方","H29\nA1c","H30\nA1c","R01\nA1c","R02\nA1c","R03\nA1c","尿蛋白","GFR","空腹時血糖","随時血糖","問診\nDM服薬","H29\nBMI","H30\nBMI","R01\nBMI","R02\nBMI","R03\nBMI","H29\n収縮期","H29\n拡張期","H30\n収縮期","H30\n拡張期","R01\n収縮期","R01\n拡張期","R02\n収縮期","R02\n拡張期","R03\n収縮期","R03\n拡張期","中性\n脂肪","HDL","LDL","GOT","GPT","γ-GTP","尿酸","心電図所見有無","具体的な所見","問診\n喫煙","取得日\n変換","喪失日\n変換","KDB\n個人番号","氏名\nカナ","生年月日","郵便\n番号","住所","電話番号","中断or未治療"]
[{"$f":"IF(OR(H29介入支援!A8=\"\",H30介入支援!A8=\"\",'R01介入支援'!A8=\"\",'R02介入支援'!A8=\"\",'R03介入支援'!A8=\"\",'疾病管理一覧（糖尿病）'!A12=\"\",被保険者管理台帳!A6=\"\",FKAC171!A4=\"\"),\"貼付けデータに不足があります。確認してください。\",\"\")","v":"貼付けデータに不足があります。確認してください。"},null,{"$f":"'R03介入支援'!FQ8","v":0},{"$f":"IF(ISERROR(VLOOKUP(B2,H29介入支援!$E$7:$BR$50000,66,FALSE)),0,(VLOOKUP(B2,H29介入支援!$E$7:$BR$50000,66,FALSE)))","v":0},{"$f":"IF(ISERROR(VLOOKUP(B2,H30介入支援!$E$7:$BR$50000,66,FALSE)),0,(VLOOKUP(B2,H30介入支援!$E$7:$BR$50000,66,FALSE)))","v":0},{"$f":"IF(ISERROR(VLOOKUP(B2,'R01介入支援'!$E$7:$BR$50000,66,FALSE)),0,(VLOOKUP(B2,'R01介入支援'!$E$7:$BR$50000,66,FALSE)))","v":0},{"$f":"IF(ISERROR(VLOOKUP(B2,'R02介入支援'!$E$7:$BR$50000,66,FALSE)),0,(VLOOKUP(B2,'R02介入支援'!$E$7:$BR$50000,66,FALSE)))","v":0},{"$f":"'R03介入支援'!BR8","v":0},{"$f":"IF(ISERROR(VLOOKUP(B2,処方抽出作業シート!$A$3:$F$30000,2,FALSE)),0,(VLOOKUP(B2,処方抽出作業シート!$A$3:$F$30000,2,FALSE)))","v":0},{"$f":"IF(ISERROR(VLOOKUP(B2,処方抽出作業シート!$A$3:$F$30000,3,FALSE)),0,(VLOOKUP(B2,処方抽出作業シート!$A$3:$F$30000,3,FALSE)))","v":0},{"$f":"IF(ISERROR(VLOOKUP(B2,処方抽出作業シート!$A$3:$F$30000,4,FALSE)),0,(VLOOKUP(B2,処方抽出作業シート!$A$3:$F$30000,4,FALSE)))","v":0},{"$f":"IF(ISERROR(VLOOKUP(B2,処方抽出作業シート!$A$3:$F$30000,5,FALSE)),0,(VLOOKUP(B2,処方抽出作業シート!$A$3:$F$30000,5,FALSE)))","v":0},{"$f":"IF(ISERROR(VLOOKUP(B2,処方抽出作業シート!$A$3:$F$30000,6,FALSE)),0,(VLOOKUP(B2,処方抽出作業シート!$A$3:$F$30000,6,FALSE)))","v":0},{"$f":"IF(AND(D2=0,E2=0,F2=0,G2=0),0,1)","v":0},{"$f":"IF(AND(I2=0,J2=0,K2=0,L2=0),0,1)","v":0},{"$f":"IF(OR(H2=\"○\",M2<0),1,0)","v":0},{"$f":"IF(ISERROR(VLOOKUP(B2,H29介入支援!$E$7:$BR$50000,30,FALSE)),0,(VLOOKUP(B2,H29介入支援!$E$7:$BR$50000,30,FALSE)))","v":0},{"$f":"IF(ISERROR(VLOOKUP(B2,H30介入支援!$E$7:$BR$50000,30,FALSE)),0,(VLOOKUP(B2,H30介入支援!$E$7:$BR$50000,30,FALSE)))","v":0},{"$f":"IF(ISERROR(VLOOKUP(B2,'R01介入支援'!$E$7:$BR$50000,30,FALSE)),0,(VLOOKUP(B2,'R01介入支援'!$E$7:$BR$50000,30,FALSE)))","v":0},{"$f":"IF(ISERROR(VLOOKUP(B2,'R02介入支援'!$E$7:$BR$50000,30,FALSE)),0,(VLOOKUP(B2,'R02介入支援'!$E$7:$BR$50000,30,FALSE)))","v":0},{"$f":"'R03介入支援'!AH8","v":0},{"$f":"IF(OR(Q2>=6.5,R2>=6.5,S2>=6.5,T2>=6.5,U2>=6.5),1,0)","v":0},{"$f":"IF(AND(P2=0,N2=1,OR(O2=1,V2=1)),1,0)","v":0},{"$f":"IF(AND(N2=0,O2=0,P2=0,V2=1),1,0)","v":0},{"$f":"IF(AND(BN2=\"\",BO2=\"\"),0,IF(OR(BN2=\"＋\",BN2=\"＋＋\",BN2=\"＋＋＋\",AND(BO2>0,BO2<30)),1,0))","v":0},{"$f":"IF(ISERROR(VLOOKUP(B2,H29介入支援!$E$7:$BR$50000,25,FALSE)),0,(VLOOKUP(B2,H29介入支援!$E$7:$BR$50000,25,FALSE)))","v":0},{"$f":"IF(ISERROR(VLOOKUP(B2,H30介入支援!$E$7:$BR$50000,25,FALSE)),0,(VLOOKUP(B2,H30介入支援!$E$7:$BR$50000,25,FALSE)))","v":0},{"$f":"IF(ISERROR(VLOOKUP(B2,'R01介入支援'!$E$7:$BR$50000,25,FALSE)),0,(VLOOKUP(B2,'R01介入支援'!$E$7:$BR$50000,25,FALSE)))","v":0},{"$f":"IF(ISERROR(VLOOKUP(B2,'R02介入支援'!$E$7:$BR$50000,25,FALSE)),0,(VLOOKUP(B2,'R02介入支援'!$E$7:$BR$50000,25,FALSE)))","v":0},{"$f":"'R03介入支援'!AC8","v":0},{"$f":"IF(ISERROR(VLOOKUP(B2,H29介入支援!$E$7:$BR$50000,37,FALSE)),0,(VLOOKUP(B2,H29介入支援!$E$7:$BR$50000,37,FALSE)))","v":0},{"$f":"IF(ISERROR(VLOOKUP(B2,H29介入支援!$E$7:$BR$50000,38,FALSE)),0,(VLOOKUP(B2,H29介入支援!$E$7:$BR$50000,38,FALSE)))","v":0},{"$f":"IF(ISERROR(VLOOKUP(B2,H30介入支援!$E$7:$BR$50000,37,FALSE)),0,(VLOOKUP(B2,H30介入支援!$E$7:$BR$50000,37,FALSE)))","v":0},{"$f":"IF(ISERROR(VLOOKUP(B2,H30介入支援!$E$7:$BR$50000,38,FALSE)),0,(VLOOKUP(B2,H30介入支援!$E$7:$BR$50000,38,FALSE)))","v":0},{"$f":"IF(ISERROR(VLOOKUP(B2,'R01介入支援'!$E$7:$BR$50000,37,FALSE)),0,(VLOOKUP(B2,'R01介入支援'!$E$7:$BR$50000,37,FALSE)))","v":0},{"$f":"IF(ISERROR(VLOOKUP(B2,'R01介入支援'!$E$7:$BR$50000,38,FALSE)),0,(VLOOKUP(B2,'R01介入支援'!$E$7:$BR$50000,38,FALSE)))","v":0},{"$f":"IF(ISERROR(VLOOKUP(B2,'R02介入支援'!$E$7:$BR$50000,37,FALSE)),0,(VLOOKUP(B2,'R02介入支援'!$E$7:$BR$50000,37,FALSE)))","v":0},{"$f":"IF(ISERROR(VLOOKUP(B2,'R02介入支援'!$E$7:$BR$50000,38,FALSE)),0,(VLOOKUP(B2,'R02介入支援'!$E$7:$BR$50000,38,FALSE)))","v":0},{"$f":"'R03介入支援'!AO8","v":0},{"$f":"'R03介入支援'!AP8","v":0},{"$f":"IF(ISERROR(VLOOKUP(C2,FKAC171!$M$3:$JX$10000,272,FALSE)),0,(VLOOKUP(C2,FKAC171!$M$3:$JX$10000,272,FALSE)))","v":0},{"$f":"IF(ISERROR(VLOOKUP(C2,FKAC171!$M$3:$JX$10000,129,FALSE)),0,(VLOOKUP(C2,FKAC171!$M$3:$JX$10000,129,FALSE)))","v":0},{"$f":"IF(ISERROR(VLOOKUP(C2,FKAC171!$M$3:$JX$10000,130,FALSE)),0,(VLOOKUP(C2,FKAC171!$M$3:$JX$10000,130,FALSE)))","v":0},{"$f":"'R03介入支援'!K8","v":0},{"$f":"'R03介入支援'!L8","v":0},{"$f":"IF(ISERROR(VLOOKUP(B2,被保険者管理台帳!$AL$6:$AQ$100000,6,FALSE)),0,(VLOOKUP(B2,被保険者管理台帳!$AL$6:$AQ$100000,6,FALSE)))","v":0},{"$f":"C2","v":0},{"$f":"'R03介入支援'!F8","v":0},{"$f":"'R03介入支援'!G8","v":0},{"$f":"'R03介入支援'!H8","v":0},{"$f":"IF(D2=\"○\",\"●\",\"\")","v":""},{"$f":"IF(I2=0,\"\",I2)","v":""},{"$f":"IF(E2=\"○\",\"●\",\"\")","v":""},{"$f":"IF(J2=0,\"\",J2)","v":""},{"$f":"IF(F2=\"○\",\"●\",\"\")","v":""},{"$f":"IF(K2=0,\"\",K2)","v":""},{"$f":"IF(G2=\"○\",\"●\",\"\")","v":""},{"$f":"IF(L2=0,\"\",L2)","v":""},{"$f":"IF(H2=\"○\",\"●\",\"\")","v":""},{"$f":"IF(M2=0,\"\",M2)","v":""},{"$f":"IF(Q2=0,\"\",Q2)","v":""},{"$f":"IF(R2=0,\"\",R2)","v":""},"","","",{"$f":"IF('R03介入支援'!AY8=\"\",\"\",'R03介入支援'!AY8)","v":""},{"$f":"IF('R03介入支援'!AX8=0,\"\",'R03介入支援'!AX8)","v":""},{"$f":"IF('R03介入支援'!AG8=0,\"\",'R03介入支援'!AG8)","v":""},{"$f":"IF('R03介入支援'!AI8=0,\"\",'R03介入支援'!AI8)","v":""},{"$f":"IF(AO2=0,\"\",IF(AO2=1,\"○\",IF(AO2=2,\"\",\"\")))","v":""},{"$f":"IF(Z2=0,\"\",Z2)","v":""},{"$f":"IF(AA2=0,\"\",AA2)","v":""},"","","",{"$f":"IF(AE2=0,\"\",AE2)","v":""},{"$f":"IF(AF2=0,\"\",AF2)","v":""},{"$f":"IF(AG2=0,\"\",AG2)","v":""},{"$f":"IF(AH2=0,\"\",AH2)","v":""},{"$f":"IF(AI2=0,\"\",AI2)","v":""},{"$f":"IF(AJ2=0,\"\",AJ2)","v":""},{"$f":"IF(AK2=0,\"\",AK2)","v":""},{"$f":"IF(AL2=0,\"\",AL2)","v":""},{"$f":"IF(AM2=0,\"\",AM2)","v":""},{"$f":"IF(AN2=0,\"\",AN2)","v":""},{"$f":"IF('R03介入支援'!AK8=0,\"\",'R03介入支援'!AK8)","v":""},{"$f":"IF('R03介入支援'!AL8=0,\"\",'R03介入支援'!AL8)","v":""},{"$f":"IF('R03介入支援'!AM8=0,\"\",'R03介入支援'!AM8)","v":""},{"$f":"IF('R03介入支援'!AR8=0,\"\",'R03介入支援'!AR8)","v":""},{"$f":"IF('R03介入支援'!AS8=0,\"\",'R03介入支援'!AS8)","v":""},{"$f":"IF('R03介入支援'!AT8=0,\"\",'R03介入支援'!AT8)","v":""},{"$f":"IF('R03介入支援'!AU8=0,\"\",'R03介入支援'!AU8)","v":""},{"$f":"IF(AP2=0,\"\",IF(AP2=1,\"あり\",IF(AP2=2,\"なし\",\"\")))","v":""},{"$f":"IF(AQ2=0,\"\",AQ2)","v":""},{"$f":"IF('R03介入支援'!BD8=\"\",\"\",'R03介入支援'!BD8)","v":""},{"$f":"IF(AR2=0,\"資格なし\",DATEVALUE(IF(MID(AR2,1,1)=\"5\",\"R\",IF(MID(AR2,1,1)=\"4\",\"H\",IF(MID(AR2,1,1)=\"3\",\"S\",IF(MID(AR2,1,1)=\"2\",\"T\",IF(MID(AR2,1,1)=\"1\",\"M\",\"\")))))&MID(AR2,2,2)&\".\"&(MID(AR2,4,2)&\".\"&MID(AR2,6,2))))","v":"資格なし"},{"$f":"IF(AS2=0,\"\",DATEVALUE(IF(MID(AS2,1,1)=\"5\",\"R\",IF(MID(AS2,1,1)=\"4\",\"H\",IF(MID(AS2,1,1)=\"3\",\"S\",IF(MID(AS2,1,1)=\"2\",\"T\",IF(MID(AS2,1,1)=\"1\",\"M\",\"\")))))&MID(AS2,2,2)&\".\"&(MID(AS2,4,2)&\".\"&MID(AS2,6,2))))","v":""},{"$f":"B2","v":0},{"$f":"IF(AT2=0,\"\",AT2)","v":""},{"$f":"'R03介入支援'!I8","v":"00:00:00"},{"$f":"'R03介入支援'!FR8","v":0},{"$f":"'R03介入支援'!J8","v":0},{"$f":"IF('R03介入支援'!FS8=\"\",\"\",'R03介入支援'!FS8)","v":""},{"$f":"MAX(W2:X2)","v":0}]
[null,null,{"$f":"'R03介入支援'!FQ9","v":0},{"$f":"IF(ISERROR(VLOOKUP(B3,H29介入支援!$E$7:$BR$50000,66,FALSE)),0,(VLOOKUP(B3,H29介入支援!$E$7:$BR$50000,66,FALSE)))","v":0},{"$f":"IF(ISERROR(VLOOKUP(B3,H30介入支援!$E$7:$BR$50000,66,FALSE)),0,(VLOOKUP(B3,H30介入支援!$E$7:$BR$50000,66,FALSE)))","v":0},{"$f":"IF(ISERROR(VLOOKUP(B3,'R01介入支援'!$E$7:$BR$50000,66,FALSE)),0,(VLOOKUP(B3,'R01介入支援'!$E$7:$BR$50000,66,FALSE)))","v":0},{"$f":"IF(ISERROR(VLOOKUP(B3,'R02介入支援'!$E$7:$BR$50000,66,FALSE)),0,(VLOOKUP(B3,'R02介入支援'!$E$7:$BR$50000,66,FALSE)))","v":0},{"$f":"'R03介入支援'!BR9","v":0},{"$f":"IF(ISERROR(VLOOKUP(B3,処方抽出作業シート!$A$3:$F$30000,2,FALSE)),0,(VLOOKUP(B3,処方抽出作業シート!$A$3:$F$30000,2,FALSE)))","v":0},{"$f":"IF(ISERROR(VLOOKUP(B3,処方抽出作業シート!$A$3:$F$30000,3,FALSE)),0,(VLOOKUP(B3,処方抽出作業シート!$A$3:$F$30000,3,FALSE)))","v":0},{"$f":"IF(ISERROR(VLOOKUP(B3,処方抽出作業シート!$A$3:$F$30000,4,FALSE)),0,(VLOOKUP(B3,処方抽出作業シート!$A$3:$F$30000,4,FALSE)))","v":0},{"$f":"IF(ISERROR(VLOOKUP(B3,処方抽出作業シート!$A$3:$F$30000,5,FALSE)),0,(VLOOKUP(B3,処方抽出作業シート!$A$3:$F$30000,5,FALSE)))","v":0},{"$f":"IF(ISERROR(VLOOKUP(B3,処方抽出作業シート!$A$3:$F$30000,6,FALSE)),0,(VLOOKUP(B3,処方抽出作業シート!$A$3:$F$30000,6,FALSE)))","v":0},{"$f":"IF(AND(D3=0,E3=0,F3=0,G3=0),0,1)","v":0},{"$f":"IF(AND(I3=0,J3=0,K3=0,L3=0),0,1)","v":0},{"$f":"IF(OR(H3=\"○\",M3<0),1,0)","v":0},{"$f":"IF(ISERROR(VLOOKUP(B3,H29介入支援!$E$7:$BR$50000,30,FALSE)),0,(VLOOKUP(B3,H29介入支援!$E$7:$BR$50000,30,FALSE)))","v":0},{"$f":"IF(ISERROR(VLOOKUP(B3,H30介入支援!$E$7:$BR$50000,30,FALSE)),0,(VLOOKUP(B3,H30介入支援!$E$7:$BR$50000,30,FALSE)))","v":0},{"$f":"IF(ISERROR(VLOOKUP(B3,'R01介入支援'!$E$7:$BR$50000,30,FALSE)),0,(VLOOKUP(B3,'R01介入支援'!$E$7:$BR$50000,30,FALSE)))","v":0},{"$f":"IF(ISERROR(VLOOKUP(B3,'R02介入支援'!$E$7:$BR$50000,30,FALSE)),0,(VLOOKUP(B3,'R02介入支援'!$E$7:$BR$50000,30,FALSE)))","v":0},{"$f":"'R03介入支援'!AH9","v":0},{"$f":"IF(OR(Q3>=6.5,R3>=6.5,S3>=6.5,T3>=6.5,U3>=6.5),1,0)","v":0},{"$f":"IF(AND(P3=0,N3=1,OR(O3=1,V3=1)),1,0)","v":0},{"$f":"IF(AND(N3=0,O3=0,P3=0,V3=1),1,0)","v":0},0,{"$f":"IF(ISERROR(VLOOKUP(B3,H29介入支援!$E$7:$BR$50000,25,FALSE)),0,(VLOOKUP(B3,H29介入支援!$E$7:$BR$50000,25,FALSE)))","v":0},{"$f":"IF(ISERROR(VLOOKUP(B3,H30介入支援!$E$7:$BR$50000,25,FALSE)),0,(VLOOKUP(B3,H30介入支援!$E$7:$BR$50000,25,FALSE)))","v":0},{"$f":"IF(ISERROR(VLOOKUP(B3,'R01介入支援'!$E$7:$BR$50000,25,FALSE)),0,(VLOOKUP(B3,'R01介入支援'!$E$7:$BR$50000,25,FALSE)))","v":0},{"$f":"IF(ISERROR(VLOOKUP(B3,'R02介入支援'!$E$7:$BR$50000,25,FALSE)),0,(VLOOKUP(B3,'R02介入支援'!$E$7:$BR$50000,25,FALSE)))","v":0},{"$f":"'R03介入支援'!AC9","v":0},{"$f":"IF(ISERROR(VLOOKUP(B3,H29介入支援!$E$7:$BR$50000,37,FALSE)),0,(VLOOKUP(B3,H29介入支援!$E$7:$BR$50000,37,FALSE)))","v":0},{"$f":"IF(ISERROR(VLOOKUP(B3,H29介入支援!$E$7:$BR$50000,38,FALSE)),0,(VLOOKUP(B3,H29介入支援!$E$7:$BR$50000,38,FALSE)))","v":0},{"$f":"IF(ISERROR(VLOOKUP(B3,H30介入支援!$E$7:$BR$50000,37,FALSE)),0,(VLOOKUP(B3,H30介入支援!$E$7:$BR$50000,37,FALSE)))","v":0},{"$f":"IF(ISERROR(VLOOKUP(B3,H30介入支援!$E$7:$BR$50000,38,FALSE)),0,(VLOOKUP(B3,H30介入支援!$E$7:$BR$50000,38,FALSE)))","v":0},{"$f":"IF(ISERROR(VLOOKUP(B3,'R01介入支援'!$E$7:$BR$50000,37,FALSE)),0,(VLOOKUP(B3,'R01介入支援'!$E$7:$BR$50000,37,FALSE)))","v":0},{"$f":"IF(ISERROR(VLOOKUP(B3,'R01介入支援'!$E$7:$BR$50000,38,FALSE)),0,(VLOOKUP(B3,'R01介入支援'!$E$7:$BR$50000,38,FALSE)))","v":0},{"$f":"IF(ISERROR(VLOOKUP(B3,'R02介入支援'!$E$7:$BR$50000,37,FALSE)),0,(VLOOKUP(B3,'R02介入支援'!$E$7:$BR$50000,37,FALSE)))","v":0},{"$f":"IF(ISERROR(VLOOKUP(B3,'R02介入支援'!$E$7:$BR$50000,38,FALSE)),0,(VLOOKUP(B3,'R02介入支援'!$E$7:$BR$50000,38,FALSE)))","v":0},{"$f":"'R03介入支援'!AO9","v":0},{"$f":"'R03介入支援'!AP9","v":0},{"$f":"IF(ISERROR(VLOOKUP(C3,FKAC171!$M$3:$JX$10000,272,FALSE)),0,(VLOOKUP(C3,FKAC171!$M$3:$JX$10000,272,FALSE)))","v":0},{"$f":"IF(ISERROR(VLOOKUP(C3,FKAC171!$M$3:$JX$10000,129,FALSE)),0,(VLOOKUP(C3,FKAC171!$M$3:$JX$10000,129,FALSE)))","v":0},{"$f":"IF(ISERROR(VLOOKUP(C3,FKAC171!$M$3:$JX$10000,130,FALSE)),0,(VLOOKUP(C3,FKAC171!$M$3:$JX$10000,130,FALSE)))","v":0},{"$f":"'R03介入支援'!K9","v":0},{"$f":"'R03介入支援'!L9","v":0},{"$f":"IF(ISERROR(VLOOKUP(B3,被保険者管理台帳!$AL$6:$AQ$100000,6,FALSE)),0,(VLOOKUP(B3,被保険者管理台帳!$AL$6:$AQ$100000,6,FALSE)))","v":0},{"$f":"C3","v":0},{"$f":"'R03介入支援'!F9","v":0},{"$f":"'R03介入支援'!G9","v":0},{"$f":"'R03介入支援'!H9","v":0},{"$f":"IF(D3=\"○\",\"●\",\"\")","v":""},{"$f":"IF(I3=0,\"\",I3)","v":""},{"$f":"IF(E3=\"○\",\"●\",\"\")","v":""},{"$f":"IF(J3=0,\"\",J3)","v":""},{"$f":"IF(F3=\"○\",\"●\",\"\")","v":""},{"$f":"IF(K3=0,\"\",K3)","v":""},{"$f":"IF(G3=\"○\",\"●\",\"\")","v":""},{"$f":"IF(L3=0,\"\",L3)","v":""},{"$f":"IF(H3=\"○\",\"●\",\"\")","v":""},{"$f":"IF(M3=0,\"\",M3)","v":""},{"$f":"IF(Q3=0,\"\",Q3)","v":""},{"$f":"IF(R3=0,\"\",R3)","v":""},{"$f":"IF(S3=0,\"\",S3)","v":""},{"$f":"IF(T3=0,\"\",T3)","v":""},"",{"$f":"IF('R03介入支援'!AY9=\"\",\"\",'R03介入支援'!AY9)","v":""},{"$f":"IF('R03介入支援'!AX9=0,\"\",'R03介入支援'!AX9)","v":""},{"$f":"IF('R03介入支援'!AG9=0,\"\",'R03介入支援'!AG9)","v":""},{"$f":"IF('R03介入支援'!AI9=0,\"\",'R03介入支援'!AI9)","v":""},{"$f":"IF(AO3=0,\"\",IF(AO3=1,\"○\",IF(AO3=2,\"\",\"\")))","v":""},{"$f":"IF(Z3=0,\"\",Z3)","v":""},{"$f":"IF(AA3=0,\"\",AA3)","v":""},{"$f":"IF(AB3=0,\"\",AB3)","v":""},{"$f":"IF(AC3=0,\"\",AC3)","v":""},{"$f":"IF(AD3=0,\"\",AD3)","v":""},{"$f":"IF(AE3=0,\"\",AE3)","v":""},{"$f":"IF(AF3=0,\"\",AF3)","v":""},{"$f":"IF(AG3=0,\"\",AG3)","v":""},{"$f":"IF(AH3=0,\"\",AH3)","v":""},{"$f":"IF(AI3=0,\"\",AI3)","v":""},{"$f":"IF(AJ3=0,\"\",AJ3)","v":""},{"$f":"IF(AK3=0,\"\",AK3)","v":""},{"$f":"IF(AL3=0,\"\",AL3)","v":""},{"$f":"IF(AM3=0,\"\",AM3)","v":""},{"$f":"IF(AN3=0,\"\",AN3)","v":""},{"$f":"IF('R03介入支援'!AK9=0,\"\",'R03介入支援'!AK9)","v":""},{"$f":"IF('R03介入支援'!AL9=0,\"\",'R03介入支援'!AL9)","v":""},{"$f":"IF('R03介入支援'!AM9=0,\"\",'R03介入支援'!AM9)","v":""},{"$f":"IF('R03介入支援'!AR9=0,\"\",'R03介入支援'!AR9)","v":""},{"$f":"IF('R03介入支援'!AS9=0,\"\",'R03介入支援'!AS9)","v":""},{"$f":"IF('R03介入支援'!AT9=0,\"\",'R03介入支援'!AT9)","v":""},{"$f":"IF('R03介入支援'!AU9=0,\"\",'R03介入支援'!AU9)","v":""},{"$f":"IF(AP3=0,\"\",IF(AP3=1,\"あり\",IF(AP3=2,\"なし\",\"\")))","v":""},{"$f":"IF(AQ3=0,\"\",AQ3)","v":""},{"$f":"IF('R03介入支援'!BD9=\"\",\"\",'R03介入支援'!BD9)","v":""},"資格なし","",{"$f":"B3","v":0},{"$f":"IF(AT3=0,\"\",AT3)","v":""},{"$f":"'R03介入支援'!I9","v":"00:00:00"},{"$f":"'R03介入支援'!FR9","v":0},{"$f":"'R03介入支援'!J9","v":0},{"$f":"IF('R03介入支援'!FS9=\"\",\"\",'R03介入支援'!FS9)","v":""},{"$f":"MAX(W3:X3)","v":0}]
[null,null,{"$f":"'R03介入支援'!FQ10","v":0},{"$f":"IF(ISERROR(VLOOKUP(B4,H29介入支援!$E$7:$BR$50000,66,FALSE)),0,(VLOOKUP(B4,H29介入支援!$E$7:$BR$50000,66,FALSE)))","v":0},{"$f":"IF(ISERROR(VLOOKUP(B4,H30介入支援!$E$7:$BR$50000,66,FALSE)),0,(VLOOKUP(B4,H30介入支援!$E$7:$BR$50000,66,FALSE)))","v":0},{"$f":"IF(ISERROR(VLOOKUP(B4,'R01介入支援'!$E$7:$BR$50000,66,FALSE)),0,(VLOOKUP(B4,'R01介入支援'!$E$7:$BR$50000,66,FALSE)))","v":0},{"$f":"IF(ISERROR(VLOOKUP(B4,'R02介入支援'!$E$7:$BR$50000,66,FALSE)),0,(VLOOKUP(B4,'R02介入支援'!$E$7:$BR$50000,66,FALSE)))","v":0},{"$f":"'R03介入支援'!BR10","v":0},{"$f":"IF(ISERROR(VLOOKUP(B4,処方抽出作業シート!$A$3:$F$30000,2,FALSE)),0,(VLOOKUP(B4,処方抽出作業シート!$A$3:$F$30000,2,FALSE)))","v":0},{"$f":"IF(ISERROR(VLOOKUP(B4,処方抽出作業シート!$A$3:$F$30000,3,FALSE)),0,(VLOOKUP(B4,処方抽出作業シート!$A$3:$F$30000,3,FALSE)))","v":0},{"$f":"IF(ISERROR(VLOOKUP(B4,処方抽出作業シート!$A$3:$F$30000,4,FALSE)),0,(VLOOKUP(B4,処方抽出作業シート!$A$3:$F$30000,4,FALSE)))","v":0},{"$f":"IF(ISERROR(VLOOKUP(B4,処方抽出作業シート!$A$3:$F$30000,5,FALSE)),0,(VLOOKUP(B4,処方抽出作業シート!$A$3:$F$30000,5,FALSE)))","v":0},{"$f":"IF(ISERROR(VLOOKUP(B4,処方抽出作業シート!$A$3:$F$30000,6,FALSE)),0,(VLOOKUP(B4,処方抽出作業シート!$A$3:$F$30000,6,FALSE)))","v":0},0,0,0,{"$f":"IF(ISERROR(VLOOKUP(B4,H29介入支援!$E$7:$BR$50000,30,FALSE)),0,(VLOOKUP(B4,H29介入支援!$E$7:$BR$50000,30,FALSE)))","v":0},{"$f":"IF(ISERROR(VLOOKUP(B4,H30介入支援!$E$7:$BR$50000,30,FALSE)),0,(VLOOKUP(B4,H30介入支援!$E$7:$BR$50000,30,FALSE)))","v":0},{"$f":"IF(ISERROR(VLOOKUP(B4,'R01介入支援'!$E$7:$BR$50000,30,FALSE)),0,(VLOOKUP(B4,'R01介入支援'!$E$7:$BR$50000,30,FALSE)))","v":0},{"$f":"IF(ISERROR(VLOOKUP(B4,'R02介入支援'!$E$7:$BR$50000,30,FALSE)),0,(VLOOKUP(B4,'R02介入支援'!$E$7:$BR$50000,30,FALSE)))","v":0},{"$f":"'R03介入支援'!AH10","v":0},0,0,0,0,{"$f":"IF(ISERROR(VLOOKUP(B4,H29介入支援!$E$7:$BR$50000,25,FALSE)),0,(VLOOKUP(B4,H29介入支援!$E$7:$BR$50000,25,FALSE)))","v":0},{"$f":"IF(ISERROR(VLOOKUP(B4,H30介入支援!$E$7:$BR$50000,25,FALSE)),0,(VLOOKUP(B4,H30介入支援!$E$7:$BR$50000,25,FALSE)))","v":0},{"$f":"IF(ISERROR(VLOOKUP(B4,'R01介入支援'!$E$7:$BR$50000,25,FALSE)),0,(VLOOKUP(B4,'R01介入支援'!$E$7:$BR$50000,25,FALSE)))","v":0},{"$f":"IF(ISERROR(VLOOKUP(B4,'R02介入支援'!$E$7:$BR$50000,25,FALSE)),0,(VLOOKUP(B4,'R02介入支援'!$E$7:$BR$50000,25,FALSE)))","v":0},{"$f":"'R03介入支援'!AC10","v":0},{"$f":"IF(ISERROR(VLOOKUP(B4,H29介入支援!$E$7:$BR$50000,37,FALSE)),0,(VLOOKUP(B4,H29介入支援!$E$7:$BR$50000,37,FALSE)))","v":0},{"$f":"IF(ISERROR(VLOOKUP(B4,H29介入支援!$E$7:$BR$50000,38,FALSE)),0,(VLOOKUP(B4,H29介入支援!$E$7:$BR$50000,38,FALSE)))","v":0},{"$f":"IF(ISERROR(VLOOKUP(B4,H30介入支援!$E$7:$BR$50000,37,FALSE)),0,(VLOOKUP(B4,H30介入支援!$E$7:$BR$50000,37,FALSE)))","v":0},{"$f":"IF(ISERROR(VLOOKUP(B4,H30介入支援!$E$7:$BR$50000,38,FALSE)),0,(VLOOKUP(B4,H30介入支援!$E$7:$BR$50000,38,FALSE)))","v":0},{"$f":"IF(ISERROR(VLOOKUP(B4,'R01介入支援'!$E$7:$BR$50000,37,FALSE)),0,(VLOOKUP(B4,'R01介入支援'!$E$7:$BR$50000,37,FALSE)))","v":0},{"$f":"IF(ISERROR(VLOOKUP(B4,'R01介入支援'!$E$7:$BR$50000,38,FALSE)),0,(VLOOKUP(B4,'R01介入支援'!$E$7:$BR$50000,38,FALSE)))","v":0},{"$f":"IF(ISERROR(VLOOKUP(B4,'R02介入支援'!$E$7:$BR$50000,37,FALSE)),0,(VLOOKUP(B4,'R02介入支援'!$E$7:$BR$50000,37,FALSE)))","v":0},{"$f":"IF(ISERROR(VLOOKUP(B4,'R02介入支援'!$E$7:$BR$50000,38,FALSE)),0,(VLOOKUP(B4,'R02介入支援'!$E$7:$BR$50000,38,FALSE)))","v":0},{"$f":"'R03介入支援'!AO10","v":0},{"$f":"'R03介入支援'!AP10","v":0},{"$f":"IF(ISERROR(VLOOKUP(C4,FKAC171!$M$3:$JX$10000,272,FALSE)),0,(VLOOKUP(C4,FKAC171!$M$3:$JX$10000,272,FALSE)))","v":0},{"$f":"IF(ISERROR(VLOOKUP(C4,FKAC171!$M$3:$JX$10000,129,FALSE)),0,(VLOOKUP(C4,FKAC171!$M$3:$JX$10000,129,FALSE)))","v":0},{"$f":"IF(ISERROR(VLOOKUP(C4,FKAC171!$M$3:$JX$10000,130,FALSE)),0,(VLOOKUP(C4,FKAC171!$M$3:$JX$10000,130,FALSE)))","v":0},{"$f":"'R03介入支援'!K10","v":0},{"$f":"'R03介入支援'!L10","v":0},{"$f":"IF(ISERROR(VLOOKUP(B4,被保険者管理台帳!$AL$6:$AQ$100000,6,FALSE)),0,(VLOOKUP(B4,被保険者管理台帳!$AL$6:$AQ$100000,6,FALSE)))","v":0},0,{"$f":"'R03介入支援'!F10","v":0},{"$f":"'R03介入支援'!G10","v":0},{"$f":"'R03介入支援'!H10","v":0},"","","","","","","","","","","","","","","",{"$f":"IF('R03介入支援'!AY10=\"\",\"\",'R03介入支援'!AY10)","v":""},{"$f":"IF('R03介入支援'!AX10=0,\"\",'R03介入支援'!AX10)","v":""},{"$f":"IF('R03介入支援'!AG10=0,\"\",'R03介入支援'!AG10)","v":""},{"$f":"IF('R03介入支援'!AI10=0,\"\",'R03介入支援'!AI10)","v":""},"","","","","","","","","","","","","","","","",{"$f":"IF('R03介入支援'!AK10=0,\"\",'R03介入支援'!AK10)","v":""},{"$f":"IF('R03介入支援'!AL10=0,\"\",'R03介入支援'!AL10)","v":""},{"$f":"IF('R03介入支援'!AM10=0,\"\",'R03介入支援'!AM10)","v":""},{"$f":"IF('R03介入支援'!AR10=0,\"\",'R03介入支援'!AR10)","v":""},{"$f":"IF('R03介入支援'!AS10=0,\"\",'R03介入支援'!AS10)","v":""},{"$f":"IF('R03介入支援'!AT10=0,\"\",'R03介入支援'!AT10)","v":""},{"$f":"IF('R03介入支援'!AU10=0,\"\",'R03介入支援'!AU10)","v":""},"","",{"$f":"IF('R03介入支援'!BD10=\"\",\"\",'R03介入支援'!BD10)","v":""},"資格なし","",0,"",{"$f":"'R03介入支援'!I10","v":"00:00:00"},{"$f":"'R03介入支援'!FR10","v":0},{"$f":"'R03介入支援'!J10","v":0},{"$f":"IF('R03介入支援'!FS10=\"\",\"\",'R03介入支援'!FS10)","v":""},0]
[null,null,{"$f":"'R03介入支援'!FQ11","v":0},{"$f":"IF(ISERROR(VLOOKUP(B5,H29介入支援!$E$7:$BR$50000,66,FALSE)),0,(VLOOKUP(B5,H29介入支援!$E$7:$BR$50000,66,FALSE)))","v":0},{"$f":"IF(ISERROR(VLOOKUP(B5,H30介入支援!$E$7:$BR$50000,66,FALSE)),0,(VLOOKUP(B5,H30介入支援!$E$7:$BR$50000,66,FALSE)))","v":0},{"$f":"IF(ISERROR(VLOOKUP(B5,'R01介入支援'!$E$7:$BR$50000,66,FALSE)),0,(VLOOKUP(B5,'R01介入支援'!$E$7:$BR$50000,66,FALSE)))","v":0},{"$f":"IF(ISERROR(VLOOKUP(B5,'R02介入支援'!$E$7:$BR$50000,66,FALSE)),0,(VLOOKUP(B5,'R02介入支援'!$E$7:$BR$50000,66,FALSE)))","v":0},{"$f":"'R03介入支援'!BR11","v":0},{"$f":"IF(ISERROR(VLOOKUP(B5,処方抽出作業シート!$A$3:$F$30000,2,FALSE)),0,(VLOOKUP(B5,処方抽出作業シート!$A$3:$F$30000,2,FALSE)))","v":0},{"$f":"IF(ISERROR(VLOOKUP(B5,処方抽出作業シート!$A$3:$F$30000,3,FALSE)),0,(VLOOKUP(B5,処方抽出作業シート!$A$3:$F$30000,3,FALSE)))","v":0},{"$f":"IF(ISERROR(VLOOKUP(B5,処方抽出作業シート!$A$3:$F$30000,4,FALSE)),0,(VLOOKUP(B5,処方抽出作業シート!$A$3:$F$30000,4,FALSE)))","v":0},{"$f":"IF(ISERROR(VLOOKUP(B5,処方抽出作業シート!$A$3:$F$30000,5,FALSE)),0,(VLOOKUP(B5,処方抽出作業シート!$A$3:$F$30000,5,FALSE)))","v":0},{"$f":"IF(ISERROR(VLOOKUP(B5,処方抽出作業シート!$A$3:$F$30000,6,FALSE)),0,(VLOOKUP(B5,処方抽出作業シート!$A$3:$F$30000,6,FALSE)))","v":0},0,0,0,{"$f":"IF(ISERROR(VLOOKUP(B5,H29介入支援!$E$7:$BR$50000,30,FALSE)),0,(VLOOKUP(B5,H29介入支援!$E$7:$BR$50000,30,FALSE)))","v":0},{"$f":"IF(ISERROR(VLOOKUP(B5,H30介入支援!$E$7:$BR$50000,30,FALSE)),0,(VLOOKUP(B5,H30介入支援!$E$7:$BR$50000,30,FALSE)))","v":0},{"$f":"IF(ISERROR(VLOOKUP(B5,'R01介入支援'!$E$7:$BR$50000,30,FALSE)),0,(VLOOKUP(B5,'R01介入支援'!$E$7:$BR$50000,30,FALSE)))","v":0},{"$f":"IF(ISERROR(VLOOKUP(B5,'R02介入支援'!$E$7:$BR$50000,30,FALSE)),0,(VLOOKUP(B5,'R02介入支援'!$E$7:$BR$50000,30,FALSE)))","v":0},{"$f":"'R03介入支援'!AH11","v":0},0,0,0,0,{"$f":"IF(ISERROR(VLOOKUP(B5,H29介入支援!$E$7:$BR$50000,25,FALSE)),0,(VLOOKUP(B5,H29介入支援!$E$7:$BR$50000,25,FALSE)))","v":0},{"$f":"IF(ISERROR(VLOOKUP(B5,H30介入支援!$E$7:$BR$50000,25,FALSE)),0,(VLOOKUP(B5,H30介入支援!$E$7:$BR$50000,25,FALSE)))","v":0},{"$f":"IF(ISERROR(VLOOKUP(B5,'R01介入支援'!$E$7:$BR$50000,25,FALSE)),0,(VLOOKUP(B5,'R01介入支援'!$E$7:$BR$50000,25,FALSE)))","v":0},{"$f":"IF(ISERROR(VLOOKUP(B5,'R02介入支援'!$E$7:$BR$50000,25,FALSE)),0,(VLOOKUP(B5,'R02介入支援'!$E$7:$BR$50000,25,FALSE)))","v":0},{"$f":"'R03介入支援'!AC11","v":0},{"$f":"IF(ISERROR(VLOOKUP(B5,H29介入支援!$E$7:$BR$50000,37,FALSE)),0,(VLOOKUP(B5,H29介入支援!$E$7:$BR$50000,37,FALSE)))","v":0},{"$f":"IF(ISERROR(VLOOKUP(B5,H29介入支援!$E$7:$BR$50000,38,FALSE)),0,(VLOOKUP(B5,H29介入支援!$E$7:$BR$50000,38,FALSE)))","v":0},{"$f":"IF(ISERROR(VLOOKUP(B5,H30介入支援!$E$7:$BR$50000,37,FALSE)),0,(VLOOKUP(B5,H30介入支援!$E$7:$BR$50000,37,FALSE)))","v":0},{"$f":"IF(ISERROR(VLOOKUP(B5,H30介入支援!$E$7:$BR$50000,38,FALSE)),0,(VLOOKUP(B5,H30介入支援!$E$7:$BR$50000,38,FALSE)))","v":0},{"$f":"IF(ISERROR(VLOOKUP(B5,'R01介入支援'!$E$7:$BR$50000,37,FALSE)),0,(VLOOKUP(B5,'R01介入支援'!$E$7:$BR$50000,37,FALSE)))","v":0},{"$f":"IF(ISERROR(VLOOKUP(B5,'R01介入支援'!$E$7:$BR$50000,38,FALSE)),0,(VLOOKUP(B5,'R01介入支援'!$E$7:$BR$50000,38,FALSE)))","v":0},{"$f":"IF(ISERROR(VLOOKUP(B5,'R02介入支援'!$E$7:$BR$50000,37,FALSE)),0,(VLOOKUP(B5,'R02介入支援'!$E$7:$BR$50000,37,FALSE)))","v":0},{"$f":"IF(ISERROR(VLOOKUP(B5,'R02介入支援'!$E$7:$BR$50000,38,FALSE)),0,(VLOOKUP(B5,'R02介入支援'!$E$7:$BR$50000,38,FALSE)))","v":0},{"$f":"'R03介入支援'!AO11","v":0},{"$f":"'R03介入支援'!AP11","v":0},{"$f":"IF(ISERROR(VLOOKUP(C5,FKAC171!$M$3:$JX$10000,272,FALSE)),0,(VLOOKUP(C5,FKAC171!$M$3:$JX$10000,272,FALSE)))","v":0},{"$f":"IF(ISERROR(VLOOKUP(C5,FKAC171!$M$3:$JX$10000,129,FALSE)),0,(VLOOKUP(C5,FKAC171!$M$3:$JX$10000,129,FALSE)))","v":0},{"$f":"IF(ISERROR(VLOOKUP(C5,FKAC171!$M$3:$JX$10000,130,FALSE)),0,(VLOOKUP(C5,FKAC171!$M$3:$JX$10000,130,FALSE)))","v":0},{"$f":"'R03介入支援'!K11","v":0},{"$f":"'R03介入支援'!L11","v":0},{"$f":"IF(ISERROR(VLOOKUP(B5,被保険者管理台帳!$AL$6:$AQ$100000,6,FALSE)),0,(VLOOKUP(B5,被保険者管理台帳!$AL$6:$AQ$100000,6,FALSE)))","v":0},0,{"$f":"'R03介入支援'!F11","v":0},{"$f":"'R03介入支援'!G11","v":0},{"$f":"'R03介入支援'!H11","v":0},"","","","","","","","","","","","","","","",{"$f":"IF('R03介入支援'!AY11=\"\",\"\",'R03介入支援'!AY11)","v":""},{"$f":"IF('R03介入支援'!AX11=0,\"\",'R03介入支援'!AX11)","v":""},{"$f":"IF('R03介入支援'!AG11=0,\"\",'R03介入支援'!AG11)","v":""},{"$f":"IF('R03介入支援'!AI11=0,\"\",'R03介入支援'!AI11)","v":""},"","","","","","","","","","","","","","","","",{"$f":"IF('R03介入支援'!AK11=0,\"\",'R03介入支援'!AK11)","v":""},{"$f":"IF('R03介入支援'!AL11=0,\"\",'R03介入支援'!AL11)","v":""},{"$f":"IF('R03介入支援'!AM11=0,\"\",'R03介入支援'!AM11)","v":""},{"$f":"IF('R03介入支援'!AR11=0,\"\",'R03介入支援'!AR11)","v":""},{"$f":"IF('R03介入支援'!AS11=0,\"\",'R03介入支援'!AS11)","v":""},{"$f":"IF('R03介入支援'!AT11=0,\"\",'R03介入支援'!AT11)","v":""},{"$f":"IF('R03介入支援'!AU11=0,\"\",'R03介入支援'!AU11)","v":""},"","",{"$f":"IF('R03介入支援'!BD11=\"\",\"\",'R03介入支援'!BD11)","v":""},"資格なし","",0,"",{"$f":"'R03介入支援'!I11","v":"00:00:00"},{"$f":"'R03介入支援'!FR11","v":0},{"$f":"'R03介入支援'!J11","v":0},{"$f":"IF('R03介入支援'!FS11=\"\",\"\",'R03介入支援'!FS11)","v":""},0]
[null,null,{"$f":"'R03介入支援'!FQ12","v":0},{"$f":"IF(ISERROR(VLOOKUP(B6,H29介入支援!$E$7:$BR$50000,66,FALSE)),0,(VLOOKUP(B6,H29介入支援!$E$7:$BR$50000,66,FALSE)))","v":0},{"$f":"IF(ISERROR(VLOOKUP(B6,H30介入支援!$E$7:$BR$50000,66,FALSE)),0,(VLOOKUP(B6,H30介入支援!$E$7:$BR$50000,66,FALSE)))","v":0},{"$f":"IF(ISERROR(VLOOKUP(B6,'R01介入支援'!$E$7:$BR$50000,66,FALSE)),0,(VLOOKUP(B6,'R01介入支援'!$E$7:$BR$50000,66,FALSE)))","v":0},{"$f":"IF(ISERROR(VLOOKUP(B6,'R02介入支援'!$E$7:$BR$50000,66,FALSE)),0,(VLOOKUP(B6,'R02介入支援'!$E$7:$BR$50000,66,FALSE)))","v":0},{"$f":"'R03介入支援'!BR12","v":0},{"$f":"IF(ISERROR(VLOOKUP(B6,処方抽出作業シート!$A$3:$F$30000,2,FALSE)),0,(VLOOKUP(B6,処方抽出作業シート!$A$3:$F$30000,2,FALSE)))","v":0},{"$f":"IF(ISERROR(VLOOKUP(B6,処方抽出作業シート!$A$3:$F$30000,3,FALSE)),0,(VLOOKUP(B6,処方抽出作業シート!$A$3:$F$30000,3,FALSE)))","v":0},{"$f":"IF(ISERROR(VLOOKUP(B6,処方抽出作業シート!$A$3:$F$30000,4,FALSE)),0,(VLOOKUP(B6,処方抽出作業シート!$A$3:$F$30000,4,FALSE)))","v":0},{"$f":"IF(ISERROR(VLOOKUP(B6,処方抽出作業シート!$A$3:$F$30000,5,FALSE)),0,(VLOOKUP(B6,処方抽出作業シート!$A$3:$F$30000,5,FALSE)))","v":0},{"$f":"IF(ISERROR(VLOOKUP(B6,処方抽出作業シート!$A$3:$F$30000,6,FALSE)),0,(VLOOKUP(B6,処方抽出作業シート!$A$3:$F$30000,6,FALSE)))","v":0},0,0,0,{"$f":"IF(ISERROR(VLOOKUP(B6,H29介入支援!$E$7:$BR$50000,30,FALSE)),0,(VLOOKUP(B6,H29介入支援!$E$7:$BR$50000,30,FALSE)))","v":0},{"$f":"IF(ISERROR(VLOOKUP(B6,H30介入支援!$E$7:$BR$50000,30,FALSE)),0,(VLOOKUP(B6,H30介入支援!$E$7:$BR$50000,30,FALSE)))","v":0},{"$f":"IF(ISERROR(VLOOKUP(B6,'R01介入支援'!$E$7:$BR$50000,30,FALSE)),0,(VLOOKUP(B6,'R01介入支援'!$E$7:$BR$50000,30,FALSE)))","v":0},{"$f":"IF(ISERROR(VLOOKUP(B6,'R02介入支援'!$E$7:$BR$50000,30,FALSE)),0,(VLOOKUP(B6,'R02介入支援'!$E$7:$BR$50000,30,FALSE)))","v":0},{"$f":"'R03介入支援'!AH12","v":0},0,0,0,0,{"$f":"IF(ISERROR(VLOOKUP(B6,H29介入支援!$E$7:$BR$50000,25,FALSE)),0,(VLOOKUP(B6,H29介入支援!$E$7:$BR$50000,25,FALSE)))","v":0},{"$f":"IF(ISERROR(VLOOKUP(B6,H30介入支援!$E$7:$BR$50000,25,FALSE)),0,(VLOOKUP(B6,H30介入支援!$E$7:$BR$50000,25,FALSE)))","v":0},{"$f":"IF(ISERROR(VLOOKUP(B6,'R01介入支援'!$E$7:$BR$50000,25,FALSE)),0,(VLOOKUP(B6,'R01介入支援'!$E$7:$BR$50000,25,FALSE)))","v":0},{"$f":"IF(ISERROR(VLOOKUP(B6,'R02介入支援'!$E$7:$BR$50000,25,FALSE)),0,(VLOOKUP(B6,'R02介入支援'!$E$7:$BR$50000,25,FALSE)))","v":0},{"$f":"'R03介入支援'!AC12","v":0},{"$f":"IF(ISERROR(VLOOKUP(B6,H29介入支援!$E$7:$BR$50000,37,FALSE)),0,(VLOOKUP(B6,H29介入支援!$E$7:$BR$50000,37,FALSE)))","v":0},{"$f":"IF(ISERROR(VLOOKUP(B6,H29介入支援!$E$7:$BR$50000,38,FALSE)),0,(VLOOKUP(B6,H29介入支援!$E$7:$BR$50000,38,FALSE)))","v":0},{"$f":"IF(ISERROR(VLOOKUP(B6,H30介入支援!$E$7:$BR$50000,37,FALSE)),0,(VLOOKUP(B6,H30介入支援!$E$7:$BR$50000,37,FALSE)))","v":0},{"$f":"IF(ISERROR(VLOOKUP(B6,H30介入支援!$E$7:$BR$50000,38,FALSE)),0,(VLOOKUP(B6,H30介入支援!$E$7:$BR$50000,38,FALSE)))","v":0},{"$f":"IF(ISERROR(VLOOKUP(B6,'R01介入支援'!$E$7:$BR$50000,37,FALSE)),0,(VLOOKUP(B6,'R01介入支援'!$E$7:$BR$50000,37,FALSE)))","v":0},{"$f":"IF(ISERROR(VLOOKUP(B6,'R01介入支援'!$E$7:$BR$50000,38,FALSE)),0,(VLOOKUP(B6,'R01介入支援'!$E$7:$BR$50000,38,FALSE)))","v":0},{"$f":"IF(ISERROR(VLOOKUP(B6,'R02介入支援'!$E$7:$BR$50000,37,FALSE)),0,(VLOOKUP(B6,'R02介入支援'!$E$7:$BR$50000,37,FALSE)))","v":0},{"$f":"IF(ISERROR(VLOOKUP(B6,'R02介入支援'!$E$7:$BR$50000,38,FALSE)),0,(VLOOKUP(B6,'R02介入支援'!$E$7:$BR$50000,38,FALSE)))","v":0},{"$f":"'R03介入支援'!AO12","v":0},{"$f":"'R03介入支援'!AP12","v":0},{"$f":"IF(ISERROR(VLOOKUP(C6,FKAC171!$M$3:$JX$10000,272,FALSE)),0,(VLOOKUP(C6,FKAC171!$M$3:$JX$10000,272,FALSE)))","v":0},{"$f":"IF(ISERROR(VLOOKUP(C6,FKAC171!$M$3:$JX$10000,129,FALSE)),0,(VLOOKUP(C6,FKAC171!$M$3:$JX$10000,129,FALSE)))","v":0},{"$f":"IF(ISERROR(VLOOKUP(C6,FKAC171!$M$3:$JX$10000,130,FALSE)),0,(VLOOKUP(C6,FKAC171!$M$3:$JX$10000,130,FALSE)))","v":0},{"$f":"'R03介入支援'!K12","v":0},{"$f":"'R03介入支援'!L12","v":0},{"$f":"IF(ISERROR(VLOOKUP(B6,被保険者管理台帳!$AL$6:$AQ$100000,6,FALSE)),0,(VLOOKUP(B6,被保険者管理台帳!$AL$6:$AQ$100000,6,FALSE)))","v":0},0,{"$f":"'R03介入支援'!F12","v":0},{"$f":"'R03介入支援'!G12","v":0},{"$f":"'R03介入支援'!H12","v":0},"","","","","","","","","","","","","","","",{"$f":"IF('R03介入支援'!AY12=\"\",\"\",'R03介入支援'!AY12)","v":""},{"$f":"IF('R03介入支援'!AX12=0,\"\",'R03介入支援'!AX12)","v":""},{"$f":"IF('R03介入支援'!AG12=0,\"\",'R03介入支援'!AG12)","v":""},{"$f":"IF('R03介入支援'!AI12=0,\"\",'R03介入支援'!AI12)","v":""},"","","","","","","","","","","","","","","","",{"$f":"IF('R03介入支援'!AK12=0,\"\",'R03介入支援'!AK12)","v":""},{"$f":"IF('R03介入支援'!AL12=0,\"\",'R03介入支援'!AL12)","v":""},{"$f":"IF('R03介入支援'!AM12=0,\"\",'R03介入支援'!AM12)","v":""},{"$f":"IF('R03介入支援'!AR12=0,\"\",'R03介入支援'!AR12)","v":""},{"$f":"IF('R03介入支援'!AS12=0,\"\",'R03介入支援'!AS12)","v":""},{"$f":"IF('R03介入支援'!AT12=0,\"\",'R03介入支援'!AT12)","v":""},{"$f":"IF('R03介入支援'!AU12=0,\"\",'R03介入支援'!AU12)","v":""},"","",{"$f":"IF('R03介入支援'!BD12=\"\",\"\",'R03介入支援'!BD12)","v":""},"資格なし","",0,"",{"$f":"'R03介入支援'!I12","v":"00:00:00"},{"$f":"'R03介入支援'!FR12","v":0},{"$f":"'R03介入支援'!J12","v":0},{"$f":"IF('R03介入支援'!FS12=\"\",\"\",'R03介入支援'!FS12)","v":""},0]
[null,null,{"$f":"'R03介入支援'!FQ13","v":0},{"$f":"IF(ISERROR(VLOOKUP(B7,H29介入支援!$E$7:$BR$50000,66,FALSE)),0,(VLOOKUP(B7,H29介入支援!$E$7:$BR$50000,66,FALSE)))","v":0},{"$f":"IF(ISERROR(VLOOKUP(B7,H30介入支援!$E$7:$BR$50000,66,FALSE)),0,(VLOOKUP(B7,H30介入支援!$E$7:$BR$50000,66,FALSE)))","v":0},{"$f":"IF(ISERROR(VLOOKUP(B7,'R01介入支援'!$E$7:$BR$50000,66,FALSE)),0,(VLOOKUP(B7,'R01介入支援'!$E$7:$BR$50000,66,FALSE)))","v":0},{"$f":"IF(ISERROR(VLOOKUP(B7,'R02介入支援'!$E$7:$BR$50000,66,FALSE)),0,(VLOOKUP(B7,'R02介入支援'!$E$7:$BR$50000,66,FALSE)))","v":0},{"$f":"'R03介入支援'!BR13","v":0},{"$f":"IF(ISERROR(VLOOKUP(B7,処方抽出作業シート!$A$3:$F$30000,2,FALSE)),0,(VLOOKUP(B7,処方抽出作業シート!$A$3:$F$30000,2,FALSE)))","v":0},{"$f":"IF(ISERROR(VLOOKUP(B7,処方抽出作業シート!$A$3:$F$30000,3,FALSE)),0,(VLOOKUP(B7,処方抽出作業シート!$A$3:$F$30000,3,FALSE)))","v":0},{"$f":"IF(ISERROR(VLOOKUP(B7,処方抽出作業シート!$A$3:$F$30000,4,FALSE)),0,(VLOOKUP(B7,処方抽出作業シート!$A$3:$F$30000,4,FALSE)))","v":0},{"$f":"IF(ISERROR(VLOOKUP(B7,処方抽出作業シート!$A$3:$F$30000,5,FALSE)),0,(VLOOKUP(B7,処方抽出作業シート!$A$3:$F$30000,5,FALSE)))","v":0},{"$f":"IF(ISERROR(VLOOKUP(B7,処方抽出作業シート!$A$3:$F$30000,6,FALSE)),0,(VLOOKUP(B7,処方抽出作業シート!$A$3:$F$30000,6,FALSE)))","v":0},0,0,0,{"$f":"IF(ISERROR(VLOOKUP(B7,H29介入支援!$E$7:$BR$50000,30,FALSE)),0,(VLOOKUP(B7,H29介入支援!$E$7:$BR$50000,30,FALSE)))","v":0},{"$f":"IF(ISERROR(VLOOKUP(B7,H30介入支援!$E$7:$BR$50000,30,FALSE)),0,(VLOOKUP(B7,H30介入支援!$E$7:$BR$50000,30,FALSE)))","v":0},{"$f":"IF(ISERROR(VLOOKUP(B7,'R01介入支援'!$E$7:$BR$50000,30,FALSE)),0,(VLOOKUP(B7,'R01介入支援'!$E$7:$BR$50000,30,FALSE)))","v":0},{"$f":"IF(ISERROR(VLOOKUP(B7,'R02介入支援'!$E$7:$BR$50000,30,FALSE)),0,(VLOOKUP(B7,'R02介入支援'!$E$7:$BR$50000,30,FALSE)))","v":0},{"$f":"'R03介入支援'!AH13","v":0},0,0,0,0,{"$f":"IF(ISERROR(VLOOKUP(B7,H29介入支援!$E$7:$BR$50000,25,FALSE)),0,(VLOOKUP(B7,H29介入支援!$E$7:$BR$50000,25,FALSE)))","v":0},{"$f":"IF(ISERROR(VLOOKUP(B7,H30介入支援!$E$7:$BR$50000,25,FALSE)),0,(VLOOKUP(B7,H30介入支援!$E$7:$BR$50000,25,FALSE)))","v":0},{"$f":"IF(ISERROR(VLOOKUP(B7,'R01介入支援'!$E$7:$BR$50000,25,FALSE)),0,(VLOOKUP(B7,'R01介入支援'!$E$7:$BR$50000,25,FALSE)))","v":0},{"$f":"IF(ISERROR(VLOOKUP(B7,'R02介入支援'!$E$7:$BR$50000,25,FALSE)),0,(VLOOKUP(B7,'R02介入支援'!$E$7:$BR$50000,25,FALSE)))","v":0},{"$f":"'R03介入支援'!AC13","v":0},{"$f":"IF(ISERROR(VLOOKUP(B7,H29介入支援!$E$7:$BR$50000,37,FALSE)),0,(VLOOKUP(B7,H29介入支援!$E$7:$BR$50000,37,FALSE)))","v":0},{"$f":"IF(ISERROR(VLOOKUP(B7,H29介入支援!$E$7:$BR$50000,38,FALSE)),0,(VLOOKUP(B7,H29介入支援!$E$7:$BR$50000,38,FALSE)))","v":0},{"$f":"IF(ISERROR(VLOOKUP(B7,H30介入支援!$E$7:$BR$50000,37,FALSE)),0,(VLOOKUP(B7,H30介入支援!$E$7:$BR$50000,37,FALSE)))","v":0},{"$f":"IF(ISERROR(VLOOKUP(B7,H30介入支援!$E$7:$BR$50000,38,FALSE)),0,(VLOOKUP(B7,H30介入支援!$E$7:$BR$50000,38,FALSE)))","v":0},{"$f":"IF(ISERROR(VLOOKUP(B7,'R01介入支援'!$E$7:$BR$50000,37,FALSE)),0,(VLOOKUP(B7,'R01介入支援'!$E$7:$BR$50000,37,FALSE)))","v":0},{"$f":"IF(ISERROR(VLOOKUP(B7,'R01介入支援'!$E$7:$BR$50000,38,FALSE)),0,(VLOOKUP(B7,'R01介入支援'!$E$7:$BR$50000,38,FALSE)))","v":0},{"$f":"IF(ISERROR(VLOOKUP(B7,'R02介入支援'!$E$7:$BR$50000,37,FALSE)),0,(VLOOKUP(B7,'R02介入支援'!$E$7:$BR$50000,37,FALSE)))","v":0},{"$f":"IF(ISERROR(VLOOKUP(B7,'R02介入支援'!$E$7:$BR$50000,38,FALSE)),0,(VLOOKUP(B7,'R02介入支援'!$E$7:$BR$50000,38,FALSE)))","v":0},{"$f":"'R03介入支援'!AO13","v":0},{"$f":"'R03介入支援'!AP13","v":0},{"$f":"IF(ISERROR(VLOOKUP(C7,FKAC171!$M$3:$JX$10000,272,FALSE)),0,(VLOOKUP(C7,FKAC171!$M$3:$JX$10000,272,FALSE)))","v":0},{"$f":"IF(ISERROR(VLOOKUP(C7,FKAC171!$M$3:$JX$10000,129,FALSE)),0,(VLOOKUP(C7,FKAC171!$M$3:$JX$10000,129,FALSE)))","v":0},{"$f":"IF(ISERROR(VLOOKUP(C7,FKAC171!$M$3:$JX$10000,130,FALSE)),0,(VLOOKUP(C7,FKAC171!$M$3:$JX$10000,130,FALSE)))","v":0},{"$f":"'R03介入支援'!K13","v":0},{"$f":"'R03介入支援'!L13","v":0},{"$f":"IF(ISERROR(VLOOKUP(B7,被保険者管理台帳!$AL$6:$AQ$100000,6,FALSE)),0,(VLOOKUP(B7,被保険者管理台帳!$AL$6:$AQ$100000,6,FALSE)))","v":0},0,{"$f":"'R03介入支援'!F13","v":0},{"$f":"'R03介入支援'!G13","v":0},{"$f":"'R03介入支援'!H13","v":0},"","","","","","","","","","","","","","","",{"$f":"IF('R03介入支援'!AY13=\"\",\"\",'R03介入支援'!AY13)","v":""},{"$f":"IF('R03介入支援'!AX13=0,\"\",'R03介入支援'!AX13)","v":""},{"$f":"IF('R03介入支援'!AG13=0,\"\",'R03介入支援'!AG13)","v":""},{"$f":"IF('R03介入支援'!AI13=0,\"\",'R03介入支援'!AI13)","v":""},"","","","","","","","","","","","","","","","",{"$f":"IF('R03介入支援'!AK13=0,\"\",'R03介入支援'!AK13)","v":""},{"$f":"IF('R03介入支援'!AL13=0,\"\",'R03介入支援'!AL13)","v":""},{"$f":"IF('R03介入支援'!AM13=0,\"\",'R03介入支援'!AM13)","v":""},{"$f":"IF('R03介入支援'!AR13=0,\"\",'R03介入支援'!AR13)","v":""},{"$f":"IF('R03介入支援'!AS13=0,\"\",'R03介入支援'!AS13)","v":""},{"$f":"IF('R03介入支援'!AT13=0,\"\",'R03介入支援'!AT13)","v":""},{"$f":"IF('R03介入支援'!AU13=0,\"\",'R03介入支援'!AU13)","v":""},"","",{"$f":"IF('R03介入支援'!BD13=\"\",\"\",'R03介入支援'!BD13)","v":""},"資格なし","",0,"",{"$f":"'R03介入支援'!I13","v":"00:00:00"},{"$f":"'R03介入支援'!FR13","v":0},{"$f":"'R03介入支援'!J13","v":0},{"$f":"IF('R03介入支援'!FS13=\"\",\"\",'R03介入支援'!FS13)","v":""},0]
[null,null,{"$f":"'R03介入支援'!FQ14","v":0},{"$f":"IF(ISERROR(VLOOKUP(B8,H29介入支援!$E$7:$BR$50000,66,FALSE)),0,(VLOOKUP(B8,H29介入支援!$E$7:$BR$50000,66,FALSE)))","v":0},{"$f":"IF(ISERROR(VLOOKUP(B8,H30介入支援!$E$7:$BR$50000,66,FALSE)),0,(VLOOKUP(B8,H30介入支援!$E$7:$BR$50000,66,FALSE)))","v":0},{"$f":"IF(ISERROR(VLOOKUP(B8,'R01介入支援'!$E$7:$BR$50000,66,FALSE)),0,(VLOOKUP(B8,'R01介入支援'!$E$7:$BR$50000,66,FALSE)))","v":0},{"$f":"IF(ISERROR(VLOOKUP(B8,'R02介入支援'!$E$7:$BR$50000,66,FALSE)),0,(VLOOKUP(B8,'R02介入支援'!$E$7:$BR$50000,66,FALSE)))","v":0},{"$f":"'R03介入支援'!BR14","v":0},{"$f":"IF(ISERROR(VLOOKUP(B8,処方抽出作業シート!$A$3:$F$30000,2,FALSE)),0,(VLOOKUP(B8,処方抽出作業シート!$A$3:$F$30000,2,FALSE)))","v":0},{"$f":"IF(ISERROR(VLOOKUP(B8,処方抽出作業シート!$A$3:$F$30000,3,FALSE)),0,(VLOOKUP(B8,処方抽出作業シート!$A$3:$F$30000,3,FALSE)))","v":0},{"$f":"IF(ISERROR(VLOOKUP(B8,処方抽出作業シート!$A$3:$F$30000,4,FALSE)),0,(VLOOKUP(B8,処方抽出作業シート!$A$3:$F$30000,4,FALSE)))","v":0},{"$f":"IF(ISERROR(VLOOKUP(B8,処方抽出作業シート!$A$3:$F$30000,5,FALSE)),0,(VLOOKUP(B8,処方抽出作業シート!$A$3:$F$30000,5,FALSE)))","v":0},{"$f":"IF(ISERROR(VLOOKUP(B8,処方抽出作業シート!$A$3:$F$30000,6,FALSE)),0,(VLOOKUP(B8,処方抽出作業シート!$A$3:$F$30000,6,FALSE)))","v":0},0,0,0,{"$f":"IF(ISERROR(VLOOKUP(B8,H29介入支援!$E$7:$BR$50000,30,FALSE)),0,(VLOOKUP(B8,H29介入支援!$E$7:$BR$50000,30,FALSE)))","v":0},{"$f":"IF(ISERROR(VLOOKUP(B8,H30介入支援!$E$7:$BR$50000,30,FALSE)),0,(VLOOKUP(B8,H30介入支援!$E$7:$BR$50000,30,FALSE)))","v":0},{"$f":"IF(ISERROR(VLOOKUP(B8,'R01介入支援'!$E$7:$BR$50000,30,FALSE)),0,(VLOOKUP(B8,'R01介入支援'!$E$7:$BR$50000,30,FALSE)))","v":0},{"$f":"IF(ISERROR(VLOOKUP(B8,'R02介入支援'!$E$7:$BR$50000,30,FALSE)),0,(VLOOKUP(B8,'R02介入支援'!$E$7:$BR$50000,30,FALSE)))","v":0},{"$f":"'R03介入支援'!AH14","v":0},0,0,0,0,{"$f":"IF(ISERROR(VLOOKUP(B8,H29介入支援!$E$7:$BR$50000,25,FALSE)),0,(VLOOKUP(B8,H29介入支援!$E$7:$BR$50000,25,FALSE)))","v":0},{"$f":"IF(ISERROR(VLOOKUP(B8,H30介入支援!$E$7:$BR$50000,25,FALSE)),0,(VLOOKUP(B8,H30介入支援!$E$7:$BR$50000,25,FALSE)))","v":0},{"$f":"IF(ISERROR(VLOOKUP(B8,'R01介入支援'!$E$7:$BR$50000,25,FALSE)),0,(VLOOKUP(B8,'R01介入支援'!$E$7:$BR$50000,25,FALSE)))","v":0},{"$f":"IF(ISERROR(VLOOKUP(B8,'R02介入支援'!$E$7:$BR$50000,25,FALSE)),0,(VLOOKUP(B8,'R02介入支援'!$E$7:$BR$50000,25,FALSE)))","v":0},{"$f":"'R03介入支援'!AC14","v":0},{"$f":"IF(ISERROR(VLOOKUP(B8,H29介入支援!$E$7:$BR$50000,37,FALSE)),0,(VLOOKUP(B8,H29介入支援!$E$7:$BR$50000,37,FALSE)))","v":0},{"$f":"IF(ISERROR(VLOOKUP(B8,H29介入支援!$E$7:$BR$50000,38,FALSE)),0,(VLOOKUP(B8,H29介入支援!$E$7:$BR$50000,38,FALSE)))","v":0},{"$f":"IF(ISERROR(VLOOKUP(B8,H30介入支援!$E$7:$BR$50000,37,FALSE)),0,(VLOOKUP(B8,H30介入支援!$E$7:$BR$50000,37,FALSE)))","v":0},{"$f":"IF(ISERROR(VLOOKUP(B8,H30介入支援!$E$7:$BR$50000,38,FALSE)),0,(VLOOKUP(B8,H30介入支援!$E$7:$BR$50000,38,FALSE)))","v":0},{"$f":"IF(ISERROR(VLOOKUP(B8,'R01介入支援'!$E$7:$BR$50000,37,FALSE)),0,(VLOOKUP(B8,'R01介入支援'!$E$7:$BR$50000,37,FALSE)))","v":0},{"$f":"IF(ISERROR(VLOOKUP(B8,'R01介入支援'!$E$7:$BR$50000,38,FALSE)),0,(VLOOKUP(B8,'R01介入支援'!$E$7:$BR$50000,38,FALSE)))","v":0},{"$f":"IF(ISERROR(VLOOKUP(B8,'R02介入支援'!$E$7:$BR$50000,37,FALSE)),0,(VLOOKUP(B8,'R02介入支援'!$E$7:$BR$50000,37,FALSE)))","v":0},{"$f":"IF(ISERROR(VLOOKUP(B8,'R02介入支援'!$E$7:$BR$50000,38,FALSE)),0,(VLOOKUP(B8,'R02介入支援'!$E$7:$BR$50000,38,FALSE)))","v":0},{"$f":"'R03介入支援'!AO14","v":0},{"$f":"'R03介入支援'!AP14","v":0},{"$f":"IF(ISERROR(VLOOKUP(C8,FKAC171!$M$3:$JX$10000,272,FALSE)),0,(VLOOKUP(C8,FKAC171!$M$3:$JX$10000,272,FALSE)))","v":0},{"$f":"IF(ISERROR(VLOOKUP(C8,FKAC171!$M$3:$JX$10000,129,FALSE)),0,(VLOOKUP(C8,FKAC171!$M$3:$JX$10000,129,FALSE)))","v":0},{"$f":"IF(ISERROR(VLOOKUP(C8,FKAC171!$M$3:$JX$10000,130,FALSE)),0,(VLOOKUP(C8,FKAC171!$M$3:$JX$10000,130,FALSE)))","v":0},{"$f":"'R03介入支援'!K14","v":0},{"$f":"'R03介入支援'!L14","v":0},{"$f":"IF(ISERROR(VLOOKUP(B8,被保険者管理台帳!$AL$6:$AQ$100000,6,FALSE)),0,(VLOOKUP(B8,被保険者管理台帳!$AL$6:$AQ$100000,6,FALSE)))","v":0},0,{"$f":"'R03介入支援'!F14","v":0},{"$f":"'R03介入支援'!G14","v":0},{"$f":"'R03介入支援'!H14","v":0},"","","","","","","","","","","","","","","",{"$f":"IF('R03介入支援'!AY14=\"\",\"\",'R03介入支援'!AY14)","v":""},{"$f":"IF('R03介入支援'!AX14=0,\"\",'R03介入支援'!AX14)","v":""},{"$f":"IF('R03介入支援'!AG14=0,\"\",'R03介入支援'!AG14)","v":""},{"$f":"IF('R03介入支援'!AI14=0,\"\",'R03介入支援'!AI14)","v":""},"","","","","","","","","","","","","","","","",{"$f":"IF('R03介入支援'!AK14=0,\"\",'R03介入支援'!AK14)","v":""},{"$f":"IF('R03介入支援'!AL14=0,\"\",'R03介入支援'!AL14)","v":""},{"$f":"IF('R03介入支援'!AM14=0,\"\",'R03介入支援'!AM14)","v":""},{"$f":"IF('R03介入支援'!AR14=0,\"\",'R03介入支援'!AR14)","v":""},{"$f":"IF('R03介入支援'!AS14=0,\"\",'R03介入支援'!AS14)","v":""},{"$f":"IF('R03介入支援'!AT14=0,\"\",'R03介入支援'!AT14)","v":""},{"$f":"IF('R03介入支援'!AU14=0,\"\",'R03介入支援'!AU14)","v":""},"","",{"$f":"IF('R03介入支援'!BD14=\"\",\"\",'R03介入支援'!BD14)","v":""},"資格なし","",0,"",{"$f":"'R03介入支援'!I14","v":"00:00:00"},{"$f":"'R03介入支援'!FR14","v":0},{"$f":"'R03介入支援'!J14","v":0},{"$f":"IF('R03介入支援'!FS14=\"\",\"\",'R03介入支援'!FS14)","v":""},0]
[null,null,{"$f":"'R03介入支援'!FQ15","v":0},{"$f":"IF(ISERROR(VLOOKUP(B9,H29介入支援!$E$7:$BR$50000,66,FALSE)),0,(VLOOKUP(B9,H29介入支援!$E$7:$BR$50000,66,FALSE)))","v":0},{"$f":"IF(ISERROR(VLOOKUP(B9,H30介入支援!$E$7:$BR$50000,66,FALSE)),0,(VLOOKUP(B9,H30介入支援!$E$7:$BR$50000,66,FALSE)))","v":0},{"$f":"IF(ISERROR(VLOOKUP(B9,'R01介入支援'!$E$7:$BR$50000,66,FALSE)),0,(VLOOKUP(B9,'R01介入支援'!$E$7:$BR$50000,66,FALSE)))","v":0},{"$f":"IF(ISERROR(VLOOKUP(B9,'R02介入支援'!$E$7:$BR$50000,66,FALSE)),0,(VLOOKUP(B9,'R02介入支援'!$E$7:$BR$50000,66,FALSE)))","v":0},{"$f":"'R03介入支援'!BR15","v":0},{"$f":"IF(ISERROR(VLOOKUP(B9,処方抽出作業シート!$A$3:$F$30000,2,FALSE)),0,(VLOOKUP(B9,処方抽出作業シート!$A$3:$F$30000,2,FALSE)))","v":0},{"$f":"IF(ISERROR(VLOOKUP(B9,処方抽出作業シート!$A$3:$F$30000,3,FALSE)),0,(VLOOKUP(B9,処方抽出作業シート!$A$3:$F$30000,3,FALSE)))","v":0},{"$f":"IF(ISERROR(VLOOKUP(B9,処方抽出作業シート!$A$3:$F$30000,4,FALSE)),0,(VLOOKUP(B9,処方抽出作業シート!$A$3:$F$30000,4,FALSE)))","v":0},{"$f":"IF(ISERROR(VLOOKUP(B9,処方抽出作業シート!$A$3:$F$30000,5,FALSE)),0,(VLOOKUP(B9,処方抽出作業シート!$A$3:$F$30000,5,FALSE)))","v":0},{"$f":"IF(ISERROR(VLOOKUP(B9,処方抽出作業シート!$A$3:$F$30000,6,FALSE)),0,(VLOOKUP(B9,処方抽出作業シート!$A$3:$F$30000,6,FALSE)))","v":0},0,0,0,{"$f":"IF(ISERROR(VLOOKUP(B9,H29介入支援!$E$7:$BR$50000,30,FALSE)),0,(VLOOKUP(B9,H29介入支援!$E$7:$BR$50000,30,FALSE)))","v":0},{"$f":"IF(ISERROR(VLOOKUP(B9,H30介入支援!$E$7:$BR$50000,30,FALSE)),0,(VLOOKUP(B9,H30介入支援!$E$7:$BR$50000,30,FALSE)))","v":0},{"$f":"IF(ISERROR(VLOOKUP(B9,'R01介入支援'!$E$7:$BR$50000,30,FALSE)),0,(VLOOKUP(B9,'R01介入支援'!$E$7:$BR$50000,30,FALSE)))","v":0},{"$f":"IF(ISERROR(VLOOKUP(B9,'R02介入支援'!$E$7:$BR$50000,30,FALSE)),0,(VLOOKUP(B9,'R02介入支援'!$E$7:$BR$50000,30,FALSE)))","v":0},{"$f":"'R03介入支援'!AH15","v":0},0,0,0,0,{"$f":"IF(ISERROR(VLOOKUP(B9,H29介入支援!$E$7:$BR$50000,25,FALSE)),0,(VLOOKUP(B9,H29介入支援!$E$7:$BR$50000,25,FALSE)))","v":0},{"$f":"IF(ISERROR(VLOOKUP(B9,H30介入支援!$E$7:$BR$50000,25,FALSE)),0,(VLOOKUP(B9,H30介入支援!$E$7:$BR$50000,25,FALSE)))","v":0},{"$f":"IF(ISERROR(VLOOKUP(B9,'R01介入支援'!$E$7:$BR$50000,25,FALSE)),0,(VLOOKUP(B9,'R01介入支援'!$E$7:$BR$50000,25,FALSE)))","v":0},{"$f":"IF(ISERROR(VLOOKUP(B9,'R02介入支援'!$E$7:$BR$50000,25,FALSE)),0,(VLOOKUP(B9,'R02介入支援'!$E$7:$BR$50000,25,FALSE)))","v":0},{"$f":"'R03介入支援'!AC15","v":0},{"$f":"IF(ISERROR(VLOOKUP(B9,H29介入支援!$E$7:$BR$50000,37,FALSE)),0,(VLOOKUP(B9,H29介入支援!$E$7:$BR$50000,37,FALSE)))","v":0},{"$f":"IF(ISERROR(VLOOKUP(B9,H29介入支援!$E$7:$BR$50000,38,FALSE)),0,(VLOOKUP(B9,H29介入支援!$E$7:$BR$50000,38,FALSE)))","v":0},{"$f":"IF(ISERROR(VLOOKUP(B9,H30介入支援!$E$7:$BR$50000,37,FALSE)),0,(VLOOKUP(B9,H30介入支援!$E$7:$BR$50000,37,FALSE)))","v":0},{"$f":"IF(ISERROR(VLOOKUP(B9,H30介入支援!$E$7:$BR$50000,38,FALSE)),0,(VLOOKUP(B9,H30介入支援!$E$7:$BR$50000,38,FALSE)))","v":0},{"$f":"IF(ISERROR(VLOOKUP(B9,'R01介入支援'!$E$7:$BR$50000,37,FALSE)),0,(VLOOKUP(B9,'R01介入支援'!$E$7:$BR$50000,37,FALSE)))","v":0},{"$f":"IF(ISERROR(VLOOKUP(B9,'R01介入支援'!$E$7:$BR$50000,38,FALSE)),0,(VLOOKUP(B9,'R01介入支援'!$E$7:$BR$50000,38,FALSE)))","v":0},{"$f":"IF(ISERROR(VLOOKUP(B9,'R02介入支援'!$E$7:$BR$50000,37,FALSE)),0,(VLOOKUP(B9,'R02介入支援'!$E$7:$BR$50000,37,FALSE)))","v":0},{"$f":"IF(ISERROR(VLOOKUP(B9,'R02介入支援'!$E$7:$BR$50000,38,FALSE)),0,(VLOOKUP(B9,'R02介入支援'!$E$7:$BR$50000,38,FALSE)))","v":0},{"$f":"'R03介入支援'!AO15","v":0},{"$f":"'R03介入支援'!AP15","v":0},{"$f":"IF(ISERROR(VLOOKUP(C9,FKAC171!$M$3:$JX$10000,272,FALSE)),0,(VLOOKUP(C9,FKAC171!$M$3:$JX$10000,272,FALSE)))","v":0},{"$f":"IF(ISERROR(VLOOKUP(C9,FKAC171!$M$3:$JX$10000,129,FALSE)),0,(VLOOKUP(C9,FKAC171!$M$3:$JX$10000,129,FALSE)))","v":0},{"$f":"IF(ISERROR(VLOOKUP(C9,FKAC171!$M$3:$JX$10000,130,FALSE)),0,(VLOOKUP(C9,FKAC171!$M$3:$JX$10000,130,FALSE)))","v":0},{"$f":"'R03介入支援'!K15","v":0},{"$f":"'R03介入支援'!L15","v":0},{"$f":"IF(ISERROR(VLOOKUP(B9,被保険者管理台帳!$AL$6:$AQ$100000,6,FALSE)),0,(VLOOKUP(B9,被保険者管理台帳!$AL$6:$AQ$100000,6,FALSE)))","v":0},0,{"$f":"'R03介入支援'!F15","v":0},{"$f":"'R03介入支援'!G15","v":0},{"$f":"'R03介入支援'!H15","v":0},"","","","","","","","","","","","","","","",{"$f":"IF('R03介入支援'!AY15=\"\",\"\",'R03介入支援'!AY15)","v":""},{"$f":"IF('R03介入支援'!AX15=0,\"\",'R03介入支援'!AX15)","v":""},{"$f":"IF('R03介入支援'!AG15=0,\"\",'R03介入支援'!AG15)","v":""},{"$f":"IF('R03介入支援'!AI15=0,\"\",'R03介入支援'!AI15)","v":""},"","","","","","","","","","","","","","","","",{"$f":"IF('R03介入支援'!AK15=0,\"\",'R03介入支援'!AK15)","v":""},{"$f":"IF('R03介入支援'!AL15=0,\"\",'R03介入支援'!AL15)","v":""},{"$f":"IF('R03介入支援'!AM15=0,\"\",'R03介入支援'!AM15)","v":""},{"$f":"IF('R03介入支援'!AR15=0,\"\",'R03介入支援'!AR15)","v":""},{"$f":"IF('R03介入支援'!AS15=0,\"\",'R03介入支援'!AS15)","v":""},{"$f":"IF('R03介入支援'!AT15=0,\"\",'R03介入支援'!AT15)","v":""},{"$f":"IF('R03介入支援'!AU15=0,\"\",'R03介入支援'!AU15)","v":""},"","",{"$f":"IF('R03介入支援'!BD15=\"\",\"\",'R03介入支援'!BD15)","v":""},"資格なし","",0,"",{"$f":"'R03介入支援'!I15","v":"00:00:00"},{"$f":"'R03介入支援'!FR15","v":0},{"$f":"'R03介入支援'!J15","v":0},{"$f":"IF('R03介入支援'!FS15=\"\",\"\",'R03介入支援'!FS15)","v":""},0]
[null,null,{"$f":"'R03介入支援'!FQ16","v":0},{"$f":"IF(ISERROR(VLOOKUP(B10,H29介入支援!$E$7:$BR$50000,66,FALSE)),0,(VLOOKUP(B10,H29介入支援!$E$7:$BR$50000,66,FALSE)))","v":0},{"$f":"IF(ISERROR(VLOOKUP(B10,H30介入支援!$E$7:$BR$50000,66,FALSE)),0,(VLOOKUP(B10,H30介入支援!$E$7:$BR$50000,66,FALSE)))","v":0},{"$f":"IF(ISERROR(VLOOKUP(B10,'R01介入支援'!$E$7:$BR$50000,66,FALSE)),0,(VLOOKUP(B10,'R01介入支援'!$E$7:$BR$50000,66,FALSE)))","v":0},{"$f":"IF(ISERROR(VLOOKUP(B10,'R02介入支援'!$E$7:$BR$50000,66,FALSE)),0,(VLOOKUP(B10,'R02介入支援'!$E$7:$BR$50000,66,FALSE)))","v":0},{"$f":"'R03介入支援'!BR16","v":0},{"$f":"IF(ISERROR(VLOOKUP(B10,処方抽出作業シート!$A$3:$F$30000,2,FALSE)),0,(VLOOKUP(B10,処方抽出作業シート!$A$3:$F$30000,2,FALSE)))","v":0},{"$f":"IF(ISERROR(VLOOKUP(B10,処方抽出作業シート!$A$3:$F$30000,3,FALSE)),0,(VLOOKUP(B10,処方抽出作業シート!$A$3:$F$30000,3,FALSE)))","v":0},{"$f":"IF(ISERROR(VLOOKUP(B10,処方抽出作業シート!$A$3:$F$30000,4,FALSE)),0,(VLOOKUP(B10,処方抽出作業シート!$A$3:$F$30000,4,FALSE)))","v":0},{"$f":"IF(ISERROR(VLOOKUP(B10,処方抽出作業シート!$A$3:$F$30000,5,FALSE)),0,(VLOOKUP(B10,処方抽出作業シート!$A$3:$F$30000,5,FALSE)))","v":0},{"$f":"IF(ISERROR(VLOOKUP(B10,処方抽出作業シート!$A$3:$F$30000,6,FALSE)),0,(VLOOKUP(B10,処方抽出作業シート!$A$3:$F$30000,6,FALSE)))","v":0},0,0,0,{"$f":"IF(ISERROR(VLOOKUP(B10,H29介入支援!$E$7:$BR$50000,30,FALSE)),0,(VLOOKUP(B10,H29介入支援!$E$7:$BR$50000,30,FALSE)))","v":0},{"$f":"IF(ISERROR(VLOOKUP(B10,H30介入支援!$E$7:$BR$50000,30,FALSE)),0,(VLOOKUP(B10,H30介入支援!$E$7:$BR$50000,30,FALSE)))","v":0},{"$f":"IF(ISERROR(VLOOKUP(B10,'R01介入支援'!$E$7:$BR$50000,30,FALSE)),0,(VLOOKUP(B10,'R01介入支援'!$E$7:$BR$50000,30,FALSE)))","v":0},{"$f":"IF(ISERROR(VLOOKUP(B10,'R02介入支援'!$E$7:$BR$50000,30,FALSE)),0,(VLOOKUP(B10,'R02介入支援'!$E$7:$BR$50000,30,FALSE)))","v":0},{"$f":"'R03介入支援'!AH16","v":0},0,0,0,0,{"$f":"IF(ISERROR(VLOOKUP(B10,H29介入支援!$E$7:$BR$50000,25,FALSE)),0,(VLOOKUP(B10,H29介入支援!$E$7:$BR$50000,25,FALSE)))","v":0},{"$f":"IF(ISERROR(VLOOKUP(B10,H30介入支援!$E$7:$BR$50000,25,FALSE)),0,(VLOOKUP(B10,H30介入支援!$E$7:$BR$50000,25,FALSE)))","v":0},{"$f":"IF(ISERROR(VLOOKUP(B10,'R01介入支援'!$E$7:$BR$50000,25,FALSE)),0,(VLOOKUP(B10,'R01介入支援'!$E$7:$BR$50000,25,FALSE)))","v":0},{"$f":"IF(ISERROR(VLOOKUP(B10,'R02介入支援'!$E$7:$BR$50000,25,FALSE)),0,(VLOOKUP(B10,'R02介入支援'!$E$7:$BR$50000,25,FALSE)))","v":0},{"$f":"'R03介入支援'!AC16","v":0},{"$f":"IF(ISERROR(VLOOKUP(B10,H29介入支援!$E$7:$BR$50000,37,FALSE)),0,(VLOOKUP(B10,H29介入支援!$E$7:$BR$50000,37,FALSE)))","v":0},{"$f":"IF(ISERROR(VLOOKUP(B10,H29介入支援!$E$7:$BR$50000,38,FALSE)),0,(VLOOKUP(B10,H29介入支援!$E$7:$BR$50000,38,FALSE)))","v":0},{"$f":"IF(ISERROR(VLOOKUP(B10,H30介入支援!$E$7:$BR$50000,37,FALSE)),0,(VLOOKUP(B10,H30介入支援!$E$7:$BR$50000,37,FALSE)))","v":0},{"$f":"IF(ISERROR(VLOOKUP(B10,H30介入支援!$E$7:$BR$50000,38,FALSE)),0,(VLOOKUP(B10,H30介入支援!$E$7:$BR$50000,38,FALSE)))","v":0},{"$f":"IF(ISERROR(VLOOKUP(B10,'R01介入支援'!$E$7:$BR$50000,37,FALSE)),0,(VLOOKUP(B10,'R01介入支援'!$E$7:$BR$50000,37,FALSE)))","v":0},{"$f":"IF(ISERROR(VLOOKUP(B10,'R01介入支援'!$E$7:$BR$50000,38,FALSE)),0,(VLOOKUP(B10,'R01介入支援'!$E$7:$BR$50000,38,FALSE)))","v":0},{"$f":"IF(ISERROR(VLOOKUP(B10,'R02介入支援'!$E$7:$BR$50000,37,FALSE)),0,(VLOOKUP(B10,'R02介入支援'!$E$7:$BR$50000,37,FALSE)))","v":0},{"$f":"IF(ISERROR(VLOOKUP(B10,'R02介入支援'!$E$7:$BR$50000,38,FALSE)),0,(VLOOKUP(B10,'R02介入支援'!$E$7:$BR$50000,38,FALSE)))","v":0},{"$f":"'R03介入支援'!AO16","v":0},{"$f":"'R03介入支援'!AP16","v":0},{"$f":"IF(ISERROR(VLOOKUP(C10,FKAC171!$M$3:$JX$10000,272,FALSE)),0,(VLOOKUP(C10,FKAC171!$M$3:$JX$10000,272,FALSE)))","v":0},{"$f":"IF(ISERROR(VLOOKUP(C10,FKAC171!$M$3:$JX$10000,129,FALSE)),0,(VLOOKUP(C10,FKAC171!$M$3:$JX$10000,129,FALSE)))","v":0},{"$f":"IF(ISERROR(VLOOKUP(C10,FKAC171!$M$3:$JX$10000,130,FALSE)),0,(VLOOKUP(C10,FKAC171!$M$3:$JX$10000,130,FALSE)))","v":0},{"$f":"'R03介入支援'!K16","v":0},{"$f":"'R03介入支援'!L16","v":0},{"$f":"IF(ISERROR(VLOOKUP(B10,被保険者管理台帳!$AL$6:$AQ$100000,6,FALSE)),0,(VLOOKUP(B10,被保険者管理台帳!$AL$6:$AQ$100000,6,FALSE)))","v":0},0,{"$f":"'R03介入支援'!F16","v":0},{"$f":"'R03介入支援'!G16","v":0},{"$f":"'R03介入支援'!H16","v":0},"","","","","","","","","","","","","","","",{"$f":"IF('R03介入支援'!AY16=\"\",\"\",'R03介入支援'!AY16)","v":""},{"$f":"IF('R03介入支援'!AX16=0,\"\",'R03介入支援'!AX16)","v":""},{"$f":"IF('R03介入支援'!AG16=0,\"\",'R03介入支援'!AG16)","v":""},{"$f":"IF('R03介入支援'!AI16=0,\"\",'R03介入支援'!AI16)","v":""},"","","","","","",{"$f":"IF(AE10=0,\"\",AE10)","v":""},{"$f":"IF(AF10=0,\"\",AF10)","v":""},{"$f":"IF(AG10=0,\"\",AG10)","v":""},{"$f":"IF(AH10=0,\"\",AH10)","v":""},{"$f":"IF(AI10=0,\"\",AI10)","v":""},{"$f":"IF(AJ10=0,\"\",AJ10)","v":""},{"$f":"IF(AK10=0,\"\",AK10)","v":""},{"$f":"IF(AL10=0,\"\",AL10)","v":""},{"$f":"IF(AM10=0,\"\",AM10)","v":""},{"$f":"IF(AN10=0,\"\",AN10)","v":""},{"$f":"IF('R03介入支援'!AK16=0,\"\",'R03介入支援'!AK16)","v":""},{"$f":"IF('R03介入支援'!AL16=0,\"\",'R03介入支援'!AL16)","v":""},{"$f":"IF('R03介入支援'!AM16=0,\"\",'R03介入支援'!AM16)","v":""},{"$f":"IF('R03介入支援'!AR16=0,\"\",'R03介入支援'!AR16)","v":""},{"$f":"IF('R03介入支援'!AS16=0,\"\",'R03介入支援'!AS16)","v":""},{"$f":"IF('R03介入支援'!AT16=0,\"\",'R03介入支援'!AT16)","v":""},{"$f":"IF('R03介入支援'!AU16=0,\"\",'R03介入支援'!AU16)","v":""},{"$f":"IF(AP10=0,\"\",IF(AP10=1,\"あり\",IF(AP10=2,\"なし\",\"\")))","v":""},{"$f":"IF(AQ10=0,\"\",AQ10)","v":""},{"$f":"IF('R03介入支援'!BD16=\"\",\"\",'R03介入支援'!BD16)","v":""},"資格なし","",0,"",{"$f":"'R03介入支援'!I16","v":"00:00:00"},{"$f":"'R03介入支援'!FR16","v":0},{"$f":"'R03介入支援'!J16","v":0},{"$f":"IF('R03介入支援'!FS16=\"\",\"\",'R03介入支援'!FS16)","v":""},0]

{"sheet":"名簿","index":9,"n_rows":6,"n_cols":59,"rows_kept":6,"cut":false,"hidden":false,"merged":[[1,53,1,58],[4,27,5,27],[2,55,5,55],[2,56,5,56],[2,57,5,57],[2,58,5,58],[3,41,3,50],[2,26,2,50],[2,53,5,53],[2,54,5,54],[2,52,5,52],[2,51,5,51],[4,31,4,32],[4,35,4,36],[4,37,4,38],[4,39,4,40],[4,41,4,43],[4,44,4,46],[4,47,5,47],[3,31,3,40],[2,0,3,0],[4,26,5,26],[4,29,5,29],[4,28,5,28],[3,16,5,16],[1,4,5,4],[4,33,4,34],[3,6,5,6],[1,3,5,3],[1,16,1,50],[4,15,5,15],[4,13,5,13],[4,30,5,30],[0,0,1,0],[1,2,5,2],[3,12,5,12],[3,10,5,10],[4,11,5,11],[4,9,5,9],[3,14,5,14],[1,1,5,1],[0,51,0,52],[1,5,5,5],[1,51,1,52],[3,21,3,25],[2,16,2,25],[3,26,3,30],[2,6,2,15],[1,6,1,15],[3,20,5,20],[3,19,5,19],[3,18,5,18],[3,17,5,17],[4,7,5,7],[3,8,5,8],[4,48,4,49],[4,21,4,25]]}
["太枠内に都道府県と市町村名を入力した\n上で、名簿作成を行ってください。\n入力例：NN県NN市","糖尿病性腎症重症化予防対象者名簿",null,null,null,null,null,null,null,null,null,null,null,null,null,null,null,null,null,null,null,null,null,null,null,null,null,null,null,null,null,null,null,null,null,null,null,null,null,null,null,null,null,null,null,null,null,null,null,null,null,null,null,null,null,null,null,null,{"$f":"IF(A3=\"\",\"\",A3)","v":""}]
[null,"項番","国保\n個人番号","氏名","性別","年齢\nR03\n年度末","医療データ（レセプト情報）",null,null,null,null,null,null,null,null,null,"特定健診データ",null,null,null,null,null,null,null,null,null,null,null,null,null,null,null,null,null,null,null,null,null,null,null,null,null,null,null,null,null,null,null,null,null,null,"国保資格情報",null,"個人識別情報"]
[null,null,null,null,null,null,"糖尿病の診断",null,null,null,null,null,null,null,null,null,"HbA1c",null,null,null,null,null,null,null,null,null,"＜参考＞その他の健診結果",null,null,null,null,null,null,null,null,null,null,null,null,null,null,null,null,null,null,null,null,null,null,null,null,"取得日","喪失日","KDB\n個人番号","氏名\n（カナ）","生年月日","郵便\n番号","住所","電話番号"]
[null,null,null,null,null,null,"H29",null,"H30",null,"R01",null,"R02",null,"R03",null,"H29","H30","R01","R02","R03",null,null,null,null,null,"BMI",null,null,null,null,"血圧",null,null,null,null,null,null,null,null,null,"R03年度 健診・問診結果"]
[null,null,null,null,null,null,null,"処方",null,"処方",null,"処方",null,"処方",null,"処方",null,null,null,null,null,"参考",null,null,null,null,"H29","H30","R01","R02","R03","H29",null,"H30",null,"R01",null,"R02",null,"R03",null,"脂質代謝",null,null,"肝機能",null,null,"尿酸","心電図",null,"問診"]
[null,null,null,null,null,null,null,null,null,null,null,null,null,null,null,null,null,null,null,null,null,"尿蛋白","eGFR","空腹時\n血糖","随時\n血糖","問診\n服薬",null,null,null,null,null,"収縮期","拡張期","収縮期","拡張期","収縮期","拡張期","収縮期","拡張期","収縮期","拡張期","中性\n脂肪","HDL","LDL","GOT","GPT","γ-GTP",null,"判定","具体的な所見","喫煙"]

{"sheet":"処方抽出作業シート","index":10,"n_rows":10,"n_cols":56,"rows_kept":10,"cut":false,"hidden":false,"merged":[[0,46,0,55],[0,1,0,5],[0,6,0,15],[0,16,0,25],[0,26,0,35],[0,36,0,45]]}
["KDB","処方",null,null,null,null,"H29",null,null,null,null,null,null,null,null,null,"H30",null,null,null,null,null,null,null,null,null,"R01",null,null,null,null,null,null,null,null,null,"R02",null,null,null,null,null,null,null,null,null,"R03"]
["個人識別\n番号","H29","H30","R01","R02","R03","αＧＩ","ＳＵ剤","グリニド","ビグアナイド","インスリン抵抗","ＤＰＰ４阻害剤","インスリン注射","ＳＧＬＴ２阻害剤","配合剤","ＧＬＰ１受容体注射","αＧＩ","ＳＵ剤","グリニド","ビグアナイド","インスリン抵抗","ＤＰＰ４阻害剤","インスリン注射","ＳＧＬＴ２阻害剤","配合剤","ＧＬＰ１受容体注射","αＧＩ","ＳＵ剤","グリニド","ビグアナイド","インスリン抵抗","ＤＰＰ４阻害剤","インスリン注射","ＳＧＬＴ２阻害剤","配合剤","ＧＬＰ１受容体注射","αＧＩ","ＳＵ剤","グリニド","ビグアナイド","インスリン抵抗","ＤＰＰ４阻害剤","インスリン注射","ＳＧＬＴ２阻害剤","配合剤","ＧＬＰ１受容体注射","αＧＩ","ＳＵ剤","グリニド","ビグアナイド","インスリン抵抗","ＤＰＰ４阻害剤","インスリン注射","ＳＧＬＴ２阻害剤","配合剤","ＧＬＰ１受容体注射"]
[null,{"$f":"COUNTA(G3:P3)","v":0},{"$f":"COUNTA(Q3:Z3)","v":0},{"$f":"COUNTA(AA3:AJ3)","v":0},{"$f":"COUNTA(AK3:AT3)","v":0},{"$f":"COUNTA(AU3:BD3)","v":0}]
[null,0,0,0,0,0]
[null,0,0,0,0,0]
[null,0,0,0,0,0]
[null,0,0,0,0,0]
[null,0,0,0,0,0]
[null,0,0,0,0,0]
[null,{"$f":"COUNTA(G10:P10)","v":0},{"$f":"COUNTA(Q10:Z10)","v":0},{"$f":"COUNTA(AA10:AJ10)","v":0},{"$f":"COUNTA(AK10:AT10)","v":0},{"$f":"COUNTA(AU10:BD10)","v":0}]